BEGIN:VCALENDAR
VERSION:2.0
PRODID:-//Fools' End Club | Private Cigar Club in Missoula, Montana - ECPv6.15.20//NONSGML v1.0//EN
CALSCALE:GREGORIAN
METHOD:PUBLISH
X-WR-CALNAME:Fools' End Club | Private Cigar Club in Missoula, Montana
X-ORIGINAL-URL:https://foolsendclub.com
X-WR-CALDESC:Events for Fools' End Club | Private Cigar Club in Missoula, Montana
REFRESH-INTERVAL;VALUE=DURATION:PT1H
X-Robots-Tag:noindex
X-PUBLISHED-TTL:PT1H
BEGIN:VTIMEZONE
TZID:America/Denver
BEGIN:DAYLIGHT
TZOFFSETFROM:-0700
TZOFFSETTO:-0600
TZNAME:MDT
DTSTART:20200308T090000
END:DAYLIGHT
BEGIN:STANDARD
TZOFFSETFROM:-0600
TZOFFSETTO:-0700
TZNAME:MST
DTSTART:20201101T080000
END:STANDARD
BEGIN:DAYLIGHT
TZOFFSETFROM:-0700
TZOFFSETTO:-0600
TZNAME:MDT
DTSTART:20210314T090000
END:DAYLIGHT
BEGIN:STANDARD
TZOFFSETFROM:-0600
TZOFFSETTO:-0700
TZNAME:MST
DTSTART:20211107T080000
END:STANDARD
BEGIN:DAYLIGHT
TZOFFSETFROM:-0700
TZOFFSETTO:-0600
TZNAME:MDT
DTSTART:20220313T090000
END:DAYLIGHT
BEGIN:STANDARD
TZOFFSETFROM:-0600
TZOFFSETTO:-0700
TZNAME:MST
DTSTART:20221106T080000
END:STANDARD
BEGIN:DAYLIGHT
TZOFFSETFROM:-0700
TZOFFSETTO:-0600
TZNAME:MDT
DTSTART:20230312T090000
END:DAYLIGHT
BEGIN:STANDARD
TZOFFSETFROM:-0600
TZOFFSETTO:-0700
TZNAME:MST
DTSTART:20231105T080000
END:STANDARD
END:VTIMEZONE
BEGIN:VEVENT
DTSTART;TZID=America/Denver:20220908T112000
DTEND;TZID=America/Denver:20220908T142000
DTSTAMP:20260419T230215
CREATED:20220907T020126Z
LAST-MODIFIED:20220907T020126Z
UID:3329-1662636000-1662646800@foolsendclub.com
SUMMARY:Bills @ Rams
DESCRIPTION:This will be the only game shown on Thursday.
URL:https://foolsendclub.com/event/bills-rams/
LOCATION:MT
END:VEVENT
BEGIN:VEVENT
DTSTART;TZID=America/Denver:20220813T120000
DTEND;TZID=America/Denver:20220813T210000
DTSTAMP:20260419T230215
CREATED:20220305T040418Z
LAST-MODIFIED:20220305T040854Z
UID:3233-1660392000-1660424400@foolsendclub.com
SUMMARY:Smoke on the Water!
DESCRIPTION:Smoke on the Water returns to Flathead Lake. A Little Bit of Big Sky has arranged a re-start pof this event. Lakeside is the location for this land and water based festival.
URL:https://foolsendclub.com/event/smoke-on-the-water/
LOCATION:MT
END:VEVENT
BEGIN:VEVENT
DTSTART;TZID=America/Denver:20220723T130000
DTEND;TZID=America/Denver:20220723T210000
DTSTAMP:20260419T230215
CREATED:20220305T040800Z
LAST-MODIFIED:20220305T040800Z
UID:3236-1658581200-1658610000@foolsendclub.com
SUMMARY:Fire in the Hole
DESCRIPTION:Our third annual golf event at Missoula Country Club. Cigar exhibitors\, dinner\, drinks and auction
URL:https://foolsendclub.com/event/fire-in-the-hole/
LOCATION:MT
END:VEVENT
BEGIN:VEVENT
DTSTART;TZID=America/Denver:20220507T080000
DTEND;TZID=America/Denver:20220507T130000
DTSTAMP:20260419T230215
CREATED:20220104T031617Z
LAST-MODIFIED:20220104T031617Z
UID:3206-1651910400-1651928400@foolsendclub.com
SUMMARY:Kentucky Derby
DESCRIPTION:Dress the part of a southern gentleman or belle.\nTraditional southern food\, mint julep fun and of course\, cigars.\nPlan on bringing your vintage\, or just interesting\, car or motorcycle as we will line the streets in front of the club. \nRace is at 4:24 PM MST.
URL:https://foolsendclub.com/event/kentucky-derby-2/
LOCATION:MT
END:VEVENT
BEGIN:VEVENT
DTSTART;TZID=America/Denver:20220322T110000
DTEND;TZID=America/Denver:20220322T133000
DTSTAMP:20260419T230215
CREATED:20220315T231805Z
LAST-MODIFIED:20220315T231926Z
UID:3245-1647946800-1647955800@foolsendclub.com
SUMMARY:Austin Knudsen Visit and Discussion
DESCRIPTION:Attorney General Austin Knudsen will join us for a meet and greet session along with Q&A. Some topics relative to Cigar clubs and tax will be discussed.\nDinner is provided\, RSVP encouraged
URL:https://foolsendclub.com/event/austin-knudsen-visit-and-discussion/
LOCATION:MT
END:VEVENT
BEGIN:VEVENT
DTSTART;TZID=America/Denver:20220317T113000
DTEND;TZID=America/Denver:20220317T150000
DTSTAMP:20260419T230215
CREATED:20220310T020521Z
LAST-MODIFIED:20220310T020521Z
UID:3239-1647516600-1647529200@foolsendclub.com
SUMMARY:St. Patrick's Day Meal
DESCRIPTION:Corned beef and cabbage hosted by Fools’ End Club
URL:https://foolsendclub.com/event/st-patricks-day-meal/
LOCATION:MT
END:VEVENT
BEGIN:VEVENT
DTSTART;TZID=America/Denver:20220316T103000
DTEND;TZID=America/Denver:20220316T120000
DTSTAMP:20260419T230215
CREATED:20220311T023513Z
LAST-MODIFIED:20220311T023513Z
UID:3243-1647426600-1647432000@foolsendclub.com
SUMMARY:Fire in the Hole Planning meeting
DESCRIPTION:
URL:https://foolsendclub.com/event/fire-in-the-hole-planning-meeting/
LOCATION:MT
END:VEVENT
BEGIN:VEVENT
DTSTART;TZID=America/Denver:20220313T180000
DTEND;TZID=America/Denver:20220313T220000
DTSTAMP:20260419T230215
CREATED:20220305T035722Z
LAST-MODIFIED:20220305T040942Z
UID:3231-1647194400-1647208800@foolsendclub.com
SUMMARY:March Madness!
DESCRIPTION:Enter the pool to win cigars. The pools pays 4 places with a minimum of 4 8 cigars. Each cigar represents one entry. \nBuy at $12 or more cigar at The Bell\, Worden’s Out of the Box\, Stogies (Billings) or Rocky Mountain Liquor (Helena)
URL:https://foolsendclub.com/event/march-madness-2/
LOCATION:MT
END:VEVENT
BEGIN:VEVENT
DTSTART;TZID=America/Denver:20220310T110000
DTEND;TZID=America/Denver:20220310T150000
DTSTAMP:20260419T230215
CREATED:20220311T023401Z
LAST-MODIFIED:20220311T023401Z
UID:3241-1646910000-1646924400@foolsendclub.com
SUMMARY:March Madness Draw
DESCRIPTION:Dinner with all to through in for delivery of food.
URL:https://foolsendclub.com/event/march-madness-draw/
LOCATION:MT
END:VEVENT
BEGIN:VEVENT
DTSTART;VALUE=DATE:20220307
DTEND;VALUE=DATE:20220309
DTSTAMP:20260419T230215
CREATED:20211026T010841Z
LAST-MODIFIED:20211026T010841Z
UID:3115-1646672400-1646758799@foolsendclub.com
SUMMARY:Missoula Country Club Cigar Night
DESCRIPTION:Fools’ End hosts the members of MCC\nFood\, Spirits & Cigars
URL:https://foolsendclub.com/event/missoula-country-club-cigar-night-5/
LOCATION:MT
END:VEVENT
BEGIN:VEVENT
DTSTART;TZID=America/Denver:20220225T123000
DTEND;TZID=America/Denver:20220225T143000
DTSTAMP:20260419T230215
CREATED:20220210T042622Z
LAST-MODIFIED:20220210T042622Z
UID:3223-1645792200-1645799400@foolsendclub.com
SUMMARY:Kevin Keohane and Catnyp Music Set
DESCRIPTION:Join us for an evening of music as performed by fellow member Kevin Keohane and his band\, Catnyp.
URL:https://foolsendclub.com/event/kevin-keohane-and-catnyp-music-set/
LOCATION:MT
END:VEVENT
BEGIN:VEVENT
DTSTART;TZID=America/Denver:20220218T100000
DTEND;TZID=America/Denver:20220218T140000
DTSTAMP:20260419T230215
CREATED:20220210T042453Z
LAST-MODIFIED:20220210T042453Z
UID:3221-1645178400-1645192800@foolsendclub.com
SUMMARY:Private Party - Backroom Closed
DESCRIPTION:A private party will take place in the evening of February 18. Please be considerate of this event and plan to not access the backroom.
URL:https://foolsendclub.com/event/private-party-backroom-closed/
LOCATION:MT
END:VEVENT
BEGIN:VEVENT
DTSTART;TZID=America/Denver:20220213T070000
DTEND;TZID=America/Denver:20220213T110000
DTSTAMP:20260419T230215
CREATED:20220104T031249Z
LAST-MODIFIED:20220104T031249Z
UID:3200-1644735600-1644750000@foolsendclub.com
SUMMARY:Super Bowl Watch Party
DESCRIPTION:Begins at 2:00 pm\, Light hors d’oeuvres provided.
URL:https://foolsendclub.com/event/super-bowl-watch-party/
LOCATION:MT
END:VEVENT
BEGIN:VEVENT
DTSTART;VALUE=DATE:20220207
DTEND;VALUE=DATE:20220209
DTSTAMP:20260419T230215
CREATED:20211026T010815Z
LAST-MODIFIED:20211026T010815Z
UID:3113-1644253200-1644339599@foolsendclub.com
SUMMARY:Missoula Country Club Cigar Night
DESCRIPTION:Fools’ End hosts the members of MCC\nFood\, Spirits & Cigars
URL:https://foolsendclub.com/event/missoula-country-club-cigar-night-4/
LOCATION:MT
END:VEVENT
BEGIN:VEVENT
DTSTART;VALUE=DATE:20220110
DTEND;VALUE=DATE:20220112
DTSTAMP:20260419T230215
CREATED:20211026T010752Z
LAST-MODIFIED:20211026T010752Z
UID:3111-1641834000-1641920399@foolsendclub.com
SUMMARY:Missoula Country Club Cigar Night
DESCRIPTION:Fools’ End hosts the members of MCC\nFood\, Spirits & Cigars
URL:https://foolsendclub.com/event/missoula-country-club-cigar-night-3/
LOCATION:MT
END:VEVENT
BEGIN:VEVENT
DTSTART;TZID=America/Denver:20220109T072500
DTEND;TZID=America/Denver:20220109T102500
DTSTAMP:20260419T230215
CREATED:20211029T045508Z
LAST-MODIFIED:20211029T045508Z
UID:3179-1641713100-1641723900@foolsendclub.com
SUMMARY:Chiefs vs Broncos / Seahawks vs Cardinals
DESCRIPTION:These will be the two games shown at this time\, one on each TV.
URL:https://foolsendclub.com/event/chiefs-vs-broncos-seahawks-vs-cardinals/
LOCATION:MT
END:VEVENT
BEGIN:VEVENT
DTSTART;TZID=America/Denver:20220109T040000
DTEND;TZID=America/Denver:20220109T070000
DTSTAMP:20260419T230215
CREATED:20211029T045427Z
LAST-MODIFIED:20211029T045427Z
UID:3177-1641700800-1641711600@foolsendclub.com
SUMMARY:Packers vs Lions / Patriots vs Dolphins
DESCRIPTION:These will be the two games shown at this time\, one on each TV.
URL:https://foolsendclub.com/event/packers-vs-lions-patriots-vs-dolphins/
LOCATION:MT
END:VEVENT
BEGIN:VEVENT
DTSTART;TZID=America/Denver:20220102T113000
DTEND;TZID=America/Denver:20220102T143000
DTSTAMP:20260419T230215
CREATED:20211029T045342Z
LAST-MODIFIED:20211029T045342Z
UID:3175-1641123000-1641133800@foolsendclub.com
SUMMARY:Vikings vs Packers
DESCRIPTION:
URL:https://foolsendclub.com/event/vikings-vs-packers/
LOCATION:MT
END:VEVENT
BEGIN:VEVENT
DTSTART;TZID=America/Denver:20220102T072500
DTEND;TZID=America/Denver:20220102T102500
DTSTAMP:20260419T230215
CREATED:20211029T045310Z
LAST-MODIFIED:20211029T045310Z
UID:3173-1641108300-1641119100@foolsendclub.com
SUMMARY:Broncos vs Chargers / Lions vs Seahawks
DESCRIPTION:These will be the two games shown at this time\, one on each TV.
URL:https://foolsendclub.com/event/broncos-vs-chargers-lions-vs-seahawks/
LOCATION:MT
END:VEVENT
BEGIN:VEVENT
DTSTART;TZID=America/Denver:20220102T040000
DTEND;TZID=America/Denver:20220102T070000
DTSTAMP:20260419T230215
CREATED:20211029T045227Z
LAST-MODIFIED:20211029T045227Z
UID:3171-1641096000-1641106800@foolsendclub.com
SUMMARY:Jaguars vs Patriots / Giants vs Bears
DESCRIPTION:These will be the two games shown at this time\, one on each TV.
URL:https://foolsendclub.com/event/jaguars-vs-patriots-giants-vs-bears/
LOCATION:MT
END:VEVENT
BEGIN:VEVENT
DTSTART;TZID=America/Denver:20211230T090000
DTEND;TZID=America/Denver:20211230T140000
DTSTAMP:20260419T230215
CREATED:20210107T074046Z
LAST-MODIFIED:20210107T074046Z
UID:2712-1640854800-1640872800@foolsendclub.com
SUMMARY:Thursday Night Dinner
DESCRIPTION:Join us every Thursday for a rotating hosted dinner provided by a club member. Interested in hosting a dinner\, reach out to Ken Wickman.
URL:https://foolsendclub.com/event/test-event-2021-12-30/
LOCATION:MT
END:VEVENT
BEGIN:VEVENT
DTSTART;TZID=America/Denver:20211226T112000
DTEND;TZID=America/Denver:20211226T142000
DTSTAMP:20260419T230215
CREATED:20211029T045126Z
LAST-MODIFIED:20211029T045126Z
UID:3169-1640517600-1640528400@foolsendclub.com
SUMMARY:Washington vs Cowboys
DESCRIPTION:
URL:https://foolsendclub.com/event/washington-vs-cowboys/
LOCATION:MT
END:VEVENT
BEGIN:VEVENT
DTSTART;TZID=America/Denver:20211226T072500
DTEND;TZID=America/Denver:20211226T102500
DTSTAMP:20260419T230215
CREATED:20211029T044914Z
LAST-MODIFIED:20211029T044914Z
UID:3167-1640503500-1640514300@foolsendclub.com
SUMMARY:Steelers vs Chiefs / Bears vs Seahawks
DESCRIPTION:These will be the two games shown at this time\, one on each TV.
URL:https://foolsendclub.com/event/steelers-vs-chiefs-bears-vs-seahawks/
LOCATION:MT
END:VEVENT
BEGIN:VEVENT
DTSTART;TZID=America/Denver:20211226T040000
DTEND;TZID=America/Denver:20211226T070000
DTSTAMP:20260419T230215
CREATED:20211029T044512Z
LAST-MODIFIED:20211029T044512Z
UID:3165-1640491200-1640502000@foolsendclub.com
SUMMARY:Bills vs Patriots / Rams vs Vikings
DESCRIPTION:These will be the two games shown at this time\, one on each TV.
URL:https://foolsendclub.com/event/bills-vs-patriots-rams-vs-vikings/
LOCATION:MT
END:VEVENT
BEGIN:VEVENT
DTSTART;TZID=America/Denver:20211223T090000
DTEND;TZID=America/Denver:20211223T140000
DTSTAMP:20260419T230215
CREATED:20210107T074046Z
LAST-MODIFIED:20210107T074046Z
UID:2711-1640250000-1640268000@foolsendclub.com
SUMMARY:Thursday Night Dinner
DESCRIPTION:Join us every Thursday for a rotating hosted dinner provided by a club member. Interested in hosting a dinner\, reach out to Ken Wickman.
URL:https://foolsendclub.com/event/test-event-2021-12-23/
LOCATION:MT
END:VEVENT
BEGIN:VEVENT
DTSTART;TZID=America/Denver:20211219T113000
DTEND;TZID=America/Denver:20211219T143000
DTSTAMP:20260419T230215
CREATED:20211029T044420Z
LAST-MODIFIED:20211029T044420Z
UID:3163-1639913400-1639924200@foolsendclub.com
SUMMARY:Saints vs Buccaneers
DESCRIPTION:
URL:https://foolsendclub.com/event/saints-vs-buccaneers/
LOCATION:MT
END:VEVENT
BEGIN:VEVENT
DTSTART;TZID=America/Denver:20211219T072500
DTEND;TZID=America/Denver:20211219T102500
DTSTAMP:20260419T230215
CREATED:20211029T044251Z
LAST-MODIFIED:20211029T044251Z
UID:3161-1639898700-1639909500@foolsendclub.com
SUMMARY:Bengals vs Broncos / Seahawks vs Rams
DESCRIPTION:These will be the two games shown at this time\, one on each TV.
URL:https://foolsendclub.com/event/bengals-vs-broncos-seahawks-vs-rams/
LOCATION:MT
END:VEVENT
BEGIN:VEVENT
DTSTART;TZID=America/Denver:20211219T040000
DTEND;TZID=America/Denver:20211219T070000
DTSTAMP:20260419T230215
CREATED:20211029T044203Z
LAST-MODIFIED:20211029T044203Z
UID:3159-1639886400-1639897200@foolsendclub.com
SUMMARY:TBD / TBD
DESCRIPTION:These will be the two games shown at this time\, one on each TV.
URL:https://foolsendclub.com/event/tbd-tbd/
LOCATION:MT
END:VEVENT
BEGIN:VEVENT
DTSTART;TZID=America/Denver:20211216T103000
DTEND;TZID=America/Denver:20211216T140000
DTSTAMP:20260419T230215
CREATED:20210107T074046Z
LAST-MODIFIED:20211208T020214Z
UID:2710-1639650600-1639663200@foolsendclub.com
SUMMARY:Christmas Party!
DESCRIPTION:This year’s party celebrates our 5th year in existence!  \nCocktail begin at 5:30\nHeavy Hors d Oeuvres from 6:00\nSmoking lamp to be lit at 7:00 \nDress \nMen: Coat and tie\, suit\, or formal attire.\nWomen: cocktail or evening dress.
URL:https://foolsendclub.com/event/test-event-2021-12-16/
LOCATION:MT
END:VEVENT
BEGIN:VEVENT
DTSTART;VALUE=DATE:20211213
DTEND;VALUE=DATE:20211215
DTSTAMP:20260419T230215
CREATED:20211026T010727Z
LAST-MODIFIED:20211026T010727Z
UID:3109-1639414800-1639501199@foolsendclub.com
SUMMARY:Missoula Country Club Cigar Night
DESCRIPTION:Fools’ End hosts the members of MCC\nFood\, Spirits & Cigars
URL:https://foolsendclub.com/event/missoula-country-club-cigar-night-2/
LOCATION:MT
END:VEVENT
END:VCALENDAR