BEGIN:VCALENDAR
VERSION:2.0
PRODID:-//Fools' End Club | Private Cigar Club in Missoula, Montana - ECPv6.15.20//NONSGML v1.0//EN
CALSCALE:GREGORIAN
METHOD:PUBLISH
X-ORIGINAL-URL:https://foolsendclub.com
X-WR-CALDESC:Events for Fools' End Club | Private Cigar Club in Missoula, Montana
REFRESH-INTERVAL;VALUE=DURATION:PT1H
X-Robots-Tag:noindex
X-PUBLISHED-TTL:PT1H
BEGIN:VTIMEZONE
TZID:America/Denver
BEGIN:DAYLIGHT
TZOFFSETFROM:-0700
TZOFFSETTO:-0600
TZNAME:MDT
DTSTART:20210314T090000
END:DAYLIGHT
BEGIN:STANDARD
TZOFFSETFROM:-0600
TZOFFSETTO:-0700
TZNAME:MST
DTSTART:20211107T080000
END:STANDARD
BEGIN:DAYLIGHT
TZOFFSETFROM:-0700
TZOFFSETTO:-0600
TZNAME:MDT
DTSTART:20220313T090000
END:DAYLIGHT
BEGIN:STANDARD
TZOFFSETFROM:-0600
TZOFFSETTO:-0700
TZNAME:MST
DTSTART:20221106T080000
END:STANDARD
BEGIN:DAYLIGHT
TZOFFSETFROM:-0700
TZOFFSETTO:-0600
TZNAME:MDT
DTSTART:20230312T090000
END:DAYLIGHT
BEGIN:STANDARD
TZOFFSETFROM:-0600
TZOFFSETTO:-0700
TZNAME:MST
DTSTART:20231105T080000
END:STANDARD
END:VTIMEZONE
BEGIN:VEVENT
DTSTART;TZID=America/Denver:20221009T072500
DTEND;TZID=America/Denver:20221009T102500
DTSTAMP:20260419T202506
CREATED:20220927T095632Z
LAST-MODIFIED:20220927T095632Z
UID:3393-1665300300-1665311100@foolsendclub.com
SUMMARY:Cowboys @ Rams / Eagles @ Cardinals
DESCRIPTION:These will be the only two late games shown on the Club’s two TVs.
URL:https://foolsendclub.com/event/cowboys-rams-eagles-cardinals/
END:VEVENT
BEGIN:VEVENT
DTSTART;TZID=America/Denver:20221009T040000
DTEND;TZID=America/Denver:20221009T070000
DTSTAMP:20260419T202506
CREATED:20220927T095530Z
LAST-MODIFIED:20220927T095530Z
UID:3391-1665288000-1665298800@foolsendclub.com
SUMMARY:Steelers @ Bills / Bears @ Vikings
DESCRIPTION:These will be the only two early games shown on the Club’s two TVs.
URL:https://foolsendclub.com/event/steelers-bills-bears-vikings/
END:VEVENT
BEGIN:VEVENT
DTSTART;TZID=America/Denver:20221006T180000
DTEND;TZID=America/Denver:20221006T210000
DTSTAMP:20260419T202506
CREATED:20220902T230443Z
LAST-MODIFIED:20220902T230443Z
UID:3318-1665079200-1665090000@foolsendclub.com
SUMMARY:Fools' End Annual Member's Meeting
DESCRIPTION:We will hold the annual “State of the Club” meeting on October 6th. Plan to attend The club will host dinner and a selection of bourbons.
URL:https://foolsendclub.com/event/fools-end-annual-members-meeting/
LOCATION:Fools’ End Club\, 631 Woody St.\, Missoula\, MT\, 59802\, United States
END:VEVENT
BEGIN:VEVENT
DTSTART;TZID=America/Denver:20221006T111500
DTEND;TZID=America/Denver:20221006T141500
DTSTAMP:20260419T202506
CREATED:20220927T095340Z
LAST-MODIFIED:20220927T095340Z
UID:3389-1665054900-1665065700@foolsendclub.com
SUMMARY:Colts @ Broncos
DESCRIPTION:The only Thursday night game.
URL:https://foolsendclub.com/event/colts-broncos/
END:VEVENT
BEGIN:VEVENT
DTSTART;TZID=America/Denver:20221003T111500
DTEND;TZID=America/Denver:20221003T141500
DTSTAMP:20260419T202506
CREATED:20220927T095238Z
LAST-MODIFIED:20220927T095238Z
UID:3386-1664795700-1664806500@foolsendclub.com
SUMMARY:Rams @ 49ers
DESCRIPTION:The only Monday night game.
URL:https://foolsendclub.com/event/rams-49ers/
END:VEVENT
BEGIN:VEVENT
DTSTART;TZID=America/Denver:20221002T112000
DTEND;TZID=America/Denver:20221002T142000
DTSTAMP:20260419T202506
CREATED:20220927T095154Z
LAST-MODIFIED:20220927T095154Z
UID:3384-1664709600-1664720400@foolsendclub.com
SUMMARY:Chiefs @ Bucaneers
DESCRIPTION:The only Sunday night game.
URL:https://foolsendclub.com/event/chiefs-bucaneers/
END:VEVENT
BEGIN:VEVENT
DTSTART;TZID=America/Denver:20221002T072500
DTEND;TZID=America/Denver:20221002T102500
DTSTAMP:20260419T202506
CREATED:20220927T095046Z
LAST-MODIFIED:20220927T095046Z
UID:3382-1664695500-1664706300@foolsendclub.com
SUMMARY:Broncos @ Raiders / Patriots @ Packers
DESCRIPTION:These will be the only two late games shown on the Club’s two TVs.
URL:https://foolsendclub.com/event/broncos-raiders-patriots-packers/
END:VEVENT
BEGIN:VEVENT
DTSTART;TZID=America/Denver:20221002T040000
DTEND;TZID=America/Denver:20221002T070000
DTSTAMP:20260419T202506
CREATED:20220927T094912Z
LAST-MODIFIED:20220927T094912Z
UID:3380-1664683200-1664694000@foolsendclub.com
SUMMARY:Bills @ Ravens / Seahawks @ Lions
DESCRIPTION:These will be the only two early games shown on the Club’s two TVs.
URL:https://foolsendclub.com/event/bills-ravens-seahawks-lions/
END:VEVENT
BEGIN:VEVENT
DTSTART;TZID=America/Denver:20220929T111500
DTEND;TZID=America/Denver:20220929T141500
DTSTAMP:20260419T202506
CREATED:20220907T022252Z
LAST-MODIFIED:20220907T022252Z
UID:3361-1664450100-1664460900@foolsendclub.com
SUMMARY:Dolphins @ Bengals
DESCRIPTION:This is the only Thursday night game.
URL:https://foolsendclub.com/event/dolphins-bengals/
END:VEVENT
BEGIN:VEVENT
DTSTART;TZID=America/Denver:20220929T110000
DTEND;TZID=America/Denver:20220929T150000
DTSTAMP:20260419T202506
CREATED:20220907T025958Z
LAST-MODIFIED:20220907T025958Z
UID:3363-1664449200-1664463600@foolsendclub.com
SUMMARY:Esteban Carerras Cigars
DESCRIPTION:Come enjoy these fine cigars and meet Craig Cunningham the owner and the regional representative Sam Dickey.
URL:https://foolsendclub.com/event/esteban-carerras-cigars/
END:VEVENT
BEGIN:VEVENT
DTSTART;TZID=America/Denver:20220926T111500
DTEND;TZID=America/Denver:20220926T141500
DTSTAMP:20260419T202506
CREATED:20220907T022152Z
LAST-MODIFIED:20220907T022152Z
UID:3359-1664190900-1664201700@foolsendclub.com
SUMMARY:Cowboys @ Giants
DESCRIPTION:This is the only Monday night game.
URL:https://foolsendclub.com/event/cowboys-giants/
END:VEVENT
BEGIN:VEVENT
DTSTART;TZID=America/Denver:20220925T112000
DTEND;TZID=America/Denver:20220925T142000
DTSTAMP:20260419T202506
CREATED:20220907T022112Z
LAST-MODIFIED:20220907T022112Z
UID:3357-1664104800-1664115600@foolsendclub.com
SUMMARY:49ers @ Broncos
DESCRIPTION:This is the only Sunday night game.
URL:https://foolsendclub.com/event/49ers-broncos/
END:VEVENT
BEGIN:VEVENT
DTSTART;TZID=America/Denver:20220925T072500
DTEND;TZID=America/Denver:20220925T102500
DTSTAMP:20260419T202506
CREATED:20220907T022010Z
LAST-MODIFIED:20220907T022010Z
UID:3355-1664090700-1664101500@foolsendclub.com
SUMMARY:Packers @ Buccaneers / Falcons @ Seahawks
DESCRIPTION:These will be the only two late games shown on the Club’s two TVs.
URL:https://foolsendclub.com/event/packers-buccaneers-falcons-seahawks/
END:VEVENT
BEGIN:VEVENT
DTSTART;TZID=America/Denver:20220925T040000
DTEND;TZID=America/Denver:20220925T070000
DTSTAMP:20260419T202506
CREATED:20220907T021853Z
LAST-MODIFIED:20220907T021853Z
UID:3353-1664078400-1664089200@foolsendclub.com
SUMMARY:Ravens @ Patriots / Bills @ Dolphins
DESCRIPTION:These will be the only two early games shown on the Club’s two TVs.
URL:https://foolsendclub.com/event/ravens-patriots-bills-dolphins/
END:VEVENT
BEGIN:VEVENT
DTSTART;TZID=America/Denver:20220922T111500
DTEND;TZID=America/Denver:20220922T141500
DTSTAMP:20260419T202506
CREATED:20220907T021732Z
LAST-MODIFIED:20220907T021732Z
UID:3351-1663845300-1663856100@foolsendclub.com
SUMMARY:Steelers @ Browns
DESCRIPTION:This is the only Thursday night game.
URL:https://foolsendclub.com/event/steelers-browns/
END:VEVENT
BEGIN:VEVENT
DTSTART;TZID=America/Denver:20220919T101500
DTEND;TZID=America/Denver:20220919T131500
DTSTAMP:20260419T202506
CREATED:20220907T021618Z
LAST-MODIFIED:20220907T021618Z
UID:3349-1663582500-1663593300@foolsendclub.com
SUMMARY:Titans @ Bills
DESCRIPTION:This will be the preferred Monday night game shown.
URL:https://foolsendclub.com/event/titans-bills/
END:VEVENT
BEGIN:VEVENT
DTSTART;TZID=America/Denver:20220918T112000
DTEND;TZID=America/Denver:20220918T142000
DTSTAMP:20260419T202506
CREATED:20220907T021510Z
LAST-MODIFIED:20220907T021510Z
UID:3347-1663500000-1663510800@foolsendclub.com
SUMMARY:Bears @ Packers
DESCRIPTION:This is the only Sunday night game.
URL:https://foolsendclub.com/event/bears-packers/
END:VEVENT
BEGIN:VEVENT
DTSTART;TZID=America/Denver:20220918T070500
DTEND;TZID=America/Denver:20220918T100500
DTSTAMP:20260419T202506
CREATED:20220907T021347Z
LAST-MODIFIED:20220907T021347Z
UID:3345-1663484700-1663495500@foolsendclub.com
SUMMARY:Seahawks @ 49ers / Bengals @ Cowboys
DESCRIPTION:These will be the only two late games shown on the Club’s two TVs.
URL:https://foolsendclub.com/event/seahawks-49ers-bengals-cowboys/
END:VEVENT
BEGIN:VEVENT
DTSTART;TZID=America/Denver:20220918T040000
DTEND;TZID=America/Denver:20220918T070000
DTSTAMP:20260419T202506
CREATED:20220907T021214Z
LAST-MODIFIED:20220907T021214Z
UID:3343-1663473600-1663484400@foolsendclub.com
SUMMARY:Patriots @ Steelers / Buccaneers @ Saints
DESCRIPTION:These will be the only two early games shown on the Club’s two TVs.
URL:https://foolsendclub.com/event/patriots-steelers-buccaneers-saints/
END:VEVENT
BEGIN:VEVENT
DTSTART;TZID=America/Denver:20220915T111500
DTEND;TZID=America/Denver:20220915T141500
DTSTAMP:20260419T202506
CREATED:20220907T021039Z
LAST-MODIFIED:20220907T021039Z
UID:3341-1663240500-1663251300@foolsendclub.com
SUMMARY:Chargers @ Chiefs
DESCRIPTION:The only Thursday night game.
URL:https://foolsendclub.com/event/chargers-chiefs/
END:VEVENT
BEGIN:VEVENT
DTSTART;TZID=America/Denver:20220912T111500
DTEND;TZID=America/Denver:20220912T141500
DTSTAMP:20260419T202506
CREATED:20220907T020905Z
LAST-MODIFIED:20220907T020905Z
UID:3339-1662981300-1662992100@foolsendclub.com
SUMMARY:Broncos @ Seahawks
DESCRIPTION:The only Monday night game.
URL:https://foolsendclub.com/event/broncos-seahawks/
END:VEVENT
BEGIN:VEVENT
DTSTART;TZID=America/Denver:20220911T112000
DTEND;TZID=America/Denver:20220911T142000
DTSTAMP:20260419T202506
CREATED:20220907T020819Z
LAST-MODIFIED:20220907T020819Z
UID:3337-1662895200-1662906000@foolsendclub.com
SUMMARY:Buccaneers @ Cowboys
DESCRIPTION:The only Sunday night game.
URL:https://foolsendclub.com/event/buccaneers-cowboys/
END:VEVENT
BEGIN:VEVENT
DTSTART;TZID=America/Denver:20220911T072500
DTEND;TZID=America/Denver:20220911T102500
DTSTAMP:20260419T202506
CREATED:20220907T020633Z
LAST-MODIFIED:20220907T020633Z
UID:3334-1662881100-1662891900@foolsendclub.com
SUMMARY:Packers @ Vikings / Chiefs @ Cardinals
DESCRIPTION:These will be the only two late games shown on the Club’s two TVs.
URL:https://foolsendclub.com/event/packers-vikings-chiefs-cardinals/
END:VEVENT
BEGIN:VEVENT
DTSTART;TZID=America/Denver:20220911T040000
DTEND;TZID=America/Denver:20220911T070000
DTSTAMP:20260419T202506
CREATED:20220907T020424Z
LAST-MODIFIED:20220907T020650Z
UID:3332-1662868800-1662879600@foolsendclub.com
SUMMARY:Patriots @ Dolphins / 49ers @ Bears
DESCRIPTION:These will be the only two early games shown on the Club’s two TVs.
URL:https://foolsendclub.com/event/patriots-dolphins-49ers-bears/
END:VEVENT
BEGIN:VEVENT
DTSTART;TZID=America/Denver:20220908T112000
DTEND;TZID=America/Denver:20220908T142000
DTSTAMP:20260419T202506
CREATED:20220907T020126Z
LAST-MODIFIED:20220907T020126Z
UID:3329-1662636000-1662646800@foolsendclub.com
SUMMARY:Bills @ Rams
DESCRIPTION:This will be the only game shown on Thursday.
URL:https://foolsendclub.com/event/bills-rams/
END:VEVENT
BEGIN:VEVENT
DTSTART;TZID=America/Denver:20220813T120000
DTEND;TZID=America/Denver:20220813T210000
DTSTAMP:20260419T202506
CREATED:20220305T040418Z
LAST-MODIFIED:20220305T040854Z
UID:3233-1660392000-1660424400@foolsendclub.com
SUMMARY:Smoke on the Water!
DESCRIPTION:Smoke on the Water returns to Flathead Lake. A Little Bit of Big Sky has arranged a re-start pof this event. Lakeside is the location for this land and water based festival.
URL:https://foolsendclub.com/event/smoke-on-the-water/
END:VEVENT
BEGIN:VEVENT
DTSTART;TZID=America/Denver:20220723T130000
DTEND;TZID=America/Denver:20220723T210000
DTSTAMP:20260419T202506
CREATED:20220305T040800Z
LAST-MODIFIED:20220305T040800Z
UID:3236-1658581200-1658610000@foolsendclub.com
SUMMARY:Fire in the Hole
DESCRIPTION:Our third annual golf event at Missoula Country Club. Cigar exhibitors\, dinner\, drinks and auction
URL:https://foolsendclub.com/event/fire-in-the-hole/
END:VEVENT
BEGIN:VEVENT
DTSTART;TZID=America/Denver:20220507T080000
DTEND;TZID=America/Denver:20220507T130000
DTSTAMP:20260419T202506
CREATED:20220104T031617Z
LAST-MODIFIED:20220104T031617Z
UID:3206-1651910400-1651928400@foolsendclub.com
SUMMARY:Kentucky Derby
DESCRIPTION:Dress the part of a southern gentleman or belle.\nTraditional southern food\, mint julep fun and of course\, cigars.\nPlan on bringing your vintage\, or just interesting\, car or motorcycle as we will line the streets in front of the club. \nRace is at 4:24 PM MST.
URL:https://foolsendclub.com/event/kentucky-derby-2/
END:VEVENT
BEGIN:VEVENT
DTSTART;TZID=America/Denver:20220322T110000
DTEND;TZID=America/Denver:20220322T133000
DTSTAMP:20260419T202506
CREATED:20220315T231805Z
LAST-MODIFIED:20220315T231926Z
UID:3245-1647946800-1647955800@foolsendclub.com
SUMMARY:Austin Knudsen Visit and Discussion
DESCRIPTION:Attorney General Austin Knudsen will join us for a meet and greet session along with Q&A. Some topics relative to Cigar clubs and tax will be discussed.\nDinner is provided\, RSVP encouraged
URL:https://foolsendclub.com/event/austin-knudsen-visit-and-discussion/
END:VEVENT
BEGIN:VEVENT
DTSTART;TZID=America/Denver:20220317T113000
DTEND;TZID=America/Denver:20220317T150000
DTSTAMP:20260419T202506
CREATED:20220310T020521Z
LAST-MODIFIED:20220310T020521Z
UID:3239-1647516600-1647529200@foolsendclub.com
SUMMARY:St. Patrick's Day Meal
DESCRIPTION:Corned beef and cabbage hosted by Fools’ End Club
URL:https://foolsendclub.com/event/st-patricks-day-meal/
END:VEVENT
END:VCALENDAR