BEGIN:VCALENDAR
VERSION:2.0
PRODID:-//Fools' End Club | Private Cigar Club in Missoula, Montana - ECPv6.15.20//NONSGML v1.0//EN
CALSCALE:GREGORIAN
METHOD:PUBLISH
X-WR-CALNAME:Fools' End Club | Private Cigar Club in Missoula, Montana
X-ORIGINAL-URL:https://foolsendclub.com
X-WR-CALDESC:Events for Fools' End Club | Private Cigar Club in Missoula, Montana
REFRESH-INTERVAL;VALUE=DURATION:PT1H
X-Robots-Tag:noindex
X-PUBLISHED-TTL:PT1H
BEGIN:VTIMEZONE
TZID:America/Denver
BEGIN:DAYLIGHT
TZOFFSETFROM:-0700
TZOFFSETTO:-0600
TZNAME:MDT
DTSTART:20210314T090000
END:DAYLIGHT
BEGIN:STANDARD
TZOFFSETFROM:-0600
TZOFFSETTO:-0700
TZNAME:MST
DTSTART:20211107T080000
END:STANDARD
BEGIN:DAYLIGHT
TZOFFSETFROM:-0700
TZOFFSETTO:-0600
TZNAME:MDT
DTSTART:20220313T090000
END:DAYLIGHT
BEGIN:STANDARD
TZOFFSETFROM:-0600
TZOFFSETTO:-0700
TZNAME:MST
DTSTART:20221106T080000
END:STANDARD
BEGIN:DAYLIGHT
TZOFFSETFROM:-0700
TZOFFSETTO:-0600
TZNAME:MDT
DTSTART:20230312T090000
END:DAYLIGHT
BEGIN:STANDARD
TZOFFSETFROM:-0600
TZOFFSETTO:-0700
TZNAME:MST
DTSTART:20231105T080000
END:STANDARD
END:VTIMEZONE
BEGIN:VEVENT
DTSTART;TZID=America/Denver:20221106T070500
DTEND;TZID=America/Denver:20221106T100500
DTSTAMP:20260419T174911
CREATED:20221027T004635Z
LAST-MODIFIED:20221027T004635Z
UID:3454-1667718300-1667729100@foolsendclub.com
SUMMARY:Seahawks @ Cardinals / Rams @ Buccaneers
DESCRIPTION:
URL:https://foolsendclub.com/event/seahawks-cardinals-rams-buccaneers/
END:VEVENT
BEGIN:VEVENT
DTSTART;TZID=America/Denver:20221106T040000
DTEND;TZID=America/Denver:20221106T070000
DTSTAMP:20260419T174911
CREATED:20221027T004521Z
LAST-MODIFIED:20221027T004521Z
UID:3452-1667707200-1667718000@foolsendclub.com
SUMMARY:Colts @ Patriots / Packers @ Lions
DESCRIPTION:
URL:https://foolsendclub.com/event/colts-patriots-packers-lions/
END:VEVENT
BEGIN:VEVENT
DTSTART;TZID=America/Denver:20221103T111500
DTEND;TZID=America/Denver:20221103T141500
DTSTAMP:20260419T174911
CREATED:20221027T004435Z
LAST-MODIFIED:20221027T004435Z
UID:3450-1667474100-1667484900@foolsendclub.com
SUMMARY:Eagles @ Texans
DESCRIPTION:
URL:https://foolsendclub.com/event/eagles-texans/
END:VEVENT
BEGIN:VEVENT
DTSTART;TZID=America/Denver:20221103T110000
DTEND;TZID=America/Denver:20221103T130000
DTSTAMP:20260419T174911
CREATED:20221103T040051Z
LAST-MODIFIED:20221103T040112Z
UID:3465-1667473200-1667480400@foolsendclub.com
SUMMARY:Hosted Dinner
DESCRIPTION:Dennis Kelly has graciously volunteered to make dinner.  If you think you are going to attend let Dennis know at:  denniskelly@gmail.com
URL:https://foolsendclub.com/event/hosted-dinner/
END:VEVENT
BEGIN:VEVENT
DTSTART;TZID=America/Denver:20221031T111500
DTEND;TZID=America/Denver:20221031T141500
DTSTAMP:20260419T174911
CREATED:20221027T004357Z
LAST-MODIFIED:20221027T004357Z
UID:3447-1667214900-1667225700@foolsendclub.com
SUMMARY:Bengals @ Browns
DESCRIPTION:
URL:https://foolsendclub.com/event/bengals-browns/
END:VEVENT
BEGIN:VEVENT
DTSTART;TZID=America/Denver:20221030T112000
DTEND;TZID=America/Denver:20221030T142000
DTSTAMP:20260419T174911
CREATED:20221027T004327Z
LAST-MODIFIED:20221027T004327Z
UID:3445-1667128800-1667139600@foolsendclub.com
SUMMARY:Packers @ Bills
DESCRIPTION:
URL:https://foolsendclub.com/event/packers-bills/
END:VEVENT
BEGIN:VEVENT
DTSTART;TZID=America/Denver:20221030T072500
DTEND;TZID=America/Denver:20221030T102500
DTSTAMP:20260419T174911
CREATED:20221027T004250Z
LAST-MODIFIED:20221027T004250Z
UID:3443-1667114700-1667125500@foolsendclub.com
SUMMARY:49ers @ Rams / Giants @ Seahawks
DESCRIPTION:
URL:https://foolsendclub.com/event/49ers-rams-giants-seahawks/
END:VEVENT
BEGIN:VEVENT
DTSTART;TZID=America/Denver:20221030T040000
DTEND;TZID=America/Denver:20221030T070000
DTSTAMP:20260419T174911
CREATED:20221027T004059Z
LAST-MODIFIED:20221027T004059Z
UID:3441-1667102400-1667113200@foolsendclub.com
SUMMARY:Patriots @ Jets / Bears @ Cowboys
DESCRIPTION:
URL:https://foolsendclub.com/event/patriots-jets-bears-cowboys/
END:VEVENT
BEGIN:VEVENT
DTSTART;TZID=America/Denver:20221029T110000
DTEND;TZID=America/Denver:20221029T140000
DTSTAMP:20260419T174911
CREATED:20221025T033349Z
LAST-MODIFIED:20221027T004819Z
UID:3428-1667041200-1667052000@foolsendclub.com
SUMMARY:Bourbon Tasting Event - Club available to all members
DESCRIPTION:There will be a pre-arranged bourbon tasting for a small group. The club remains open to those not in this group.
URL:https://foolsendclub.com/event/bourbon-tasting-event-club-available-to-all-members/
END:VEVENT
BEGIN:VEVENT
DTSTART;TZID=America/Denver:20221027T111500
DTEND;TZID=America/Denver:20221027T141500
DTSTAMP:20260419T174911
CREATED:20221027T003915Z
LAST-MODIFIED:20221027T003915Z
UID:3439-1666869300-1666880100@foolsendclub.com
SUMMARY:Ravens @ Buccaneers
DESCRIPTION:
URL:https://foolsendclub.com/event/ravens-buccaneers/
END:VEVENT
BEGIN:VEVENT
DTSTART;TZID=America/Denver:20221024T111500
DTEND;TZID=America/Denver:20221024T141500
DTSTAMP:20260419T174911
CREATED:20220928T222752Z
LAST-MODIFIED:20220928T222752Z
UID:3420-1666610100-1666620900@foolsendclub.com
SUMMARY:Bears @ Patriots
DESCRIPTION:This is the only Monday night game.
URL:https://foolsendclub.com/event/bears-patriots/
END:VEVENT
BEGIN:VEVENT
DTSTART;TZID=America/Denver:20221023T112000
DTEND;TZID=America/Denver:20221023T142000
DTSTAMP:20260419T174911
CREATED:20220928T222705Z
LAST-MODIFIED:20220928T222705Z
UID:3418-1666524000-1666534800@foolsendclub.com
SUMMARY:Steelers @ Dolphins
DESCRIPTION:This is the only Sunday night game.
URL:https://foolsendclub.com/event/steelers-dolphins/
END:VEVENT
BEGIN:VEVENT
DTSTART;TZID=America/Denver:20221023T072500
DTEND;TZID=America/Denver:20221023T102500
DTSTAMP:20260419T174911
CREATED:20220928T222619Z
LAST-MODIFIED:20220928T222619Z
UID:3416-1666509900-1666520700@foolsendclub.com
SUMMARY:Chiefs @ 49ers / Seahawks @ Chargers
DESCRIPTION:These will be the only two late games shown on the Club’s two TVs.
URL:https://foolsendclub.com/event/chiefs-49ers-seahawks-chargers/
END:VEVENT
BEGIN:VEVENT
DTSTART;TZID=America/Denver:20221023T040000
DTEND;TZID=America/Denver:20221023T070000
DTSTAMP:20260419T174911
CREATED:20220928T222445Z
LAST-MODIFIED:20220928T222445Z
UID:3414-1666497600-1666508400@foolsendclub.com
SUMMARY:Lions @ Cowboys / Packers @ Commanders
DESCRIPTION:These will be the only two early games shown on the Club’s two TVs.
URL:https://foolsendclub.com/event/lions-cowboys-packers-commanders/
END:VEVENT
BEGIN:VEVENT
DTSTART;TZID=America/Denver:20221020T111500
DTEND;TZID=America/Denver:20221020T141500
DTSTAMP:20260419T174911
CREATED:20220928T222309Z
LAST-MODIFIED:20220928T222309Z
UID:3412-1666264500-1666275300@foolsendclub.com
SUMMARY:Saints @ Cardinals
DESCRIPTION:This is the only Thursday night game.
URL:https://foolsendclub.com/event/saints-cardinals/
END:VEVENT
BEGIN:VEVENT
DTSTART;TZID=America/Denver:20221017T111500
DTEND;TZID=America/Denver:20221017T141500
DTSTAMP:20260419T174911
CREATED:20220928T020442Z
LAST-MODIFIED:20220928T020442Z
UID:3408-1666005300-1666016100@foolsendclub.com
SUMMARY:Broncos @ Chargers
DESCRIPTION:This is the only Monday night game.
URL:https://foolsendclub.com/event/broncos-chargers/
END:VEVENT
BEGIN:VEVENT
DTSTART;TZID=America/Denver:20221016T112000
DTEND;TZID=America/Denver:20221016T142000
DTSTAMP:20260419T174911
CREATED:20220928T020342Z
LAST-MODIFIED:20220928T020342Z
UID:3406-1665919200-1665930000@foolsendclub.com
SUMMARY:Cowboys @ Eagles
DESCRIPTION:This is the only Sunday night game.
URL:https://foolsendclub.com/event/cowboys-eagles/
END:VEVENT
BEGIN:VEVENT
DTSTART;TZID=America/Denver:20221016T070500
DTEND;TZID=America/Denver:20221016T100500
DTSTAMP:20260419T174911
CREATED:20220928T020250Z
LAST-MODIFIED:20220928T020250Z
UID:3404-1665903900-1665914700@foolsendclub.com
SUMMARY:Bills @ Chiefs / Cardinals @ Seahawks
DESCRIPTION:These will be the only two late games shown on the Club’s two TVs.
URL:https://foolsendclub.com/event/bills-chiefs-cardinals-seahawks/
END:VEVENT
BEGIN:VEVENT
DTSTART;TZID=America/Denver:20221016T040000
DTEND;TZID=America/Denver:20221016T070000
DTSTAMP:20260419T174911
CREATED:20220928T020133Z
LAST-MODIFIED:20220928T020146Z
UID:3401-1665892800-1665903600@foolsendclub.com
SUMMARY:Patriots @ Browns / Buccaneers @ Steelers
DESCRIPTION:These will be the only two early games shown on the Club’s two TVs.
URL:https://foolsendclub.com/event/patriots-browns-bucaneers-steelers/
END:VEVENT
BEGIN:VEVENT
DTSTART;TZID=America/Denver:20221013T111500
DTEND;TZID=America/Denver:20221013T141500
DTSTAMP:20260419T174911
CREATED:20220928T015941Z
LAST-MODIFIED:20220928T015941Z
UID:3399-1665659700-1665670500@foolsendclub.com
SUMMARY:Commanders @ Bears
DESCRIPTION:The only Thursday night game.
URL:https://foolsendclub.com/event/commanders-bears/
END:VEVENT
BEGIN:VEVENT
DTSTART;TZID=America/Denver:20221013T110000
DTEND;TZID=America/Denver:20221013T150000
DTSTAMP:20260419T174911
CREATED:20221011T040017Z
LAST-MODIFIED:20221011T040017Z
UID:3424-1665658800-1665673200@foolsendclub.com
SUMMARY:Big Sky Cigars Cryptid Introduction
DESCRIPTION:Thursday October 13\, 6:00PM \nBig Sky is hosting Cigars\, Bourbon and light hors d’ oeuvres
URL:https://foolsendclub.com/event/big-sky-cigars-cryptid-introduction/
END:VEVENT
BEGIN:VEVENT
DTSTART;TZID=America/Denver:20221011T110000
DTEND;TZID=America/Denver:20221011T140000
DTSTAMP:20260419T174911
CREATED:20220927T093447Z
LAST-MODIFIED:20220927T093447Z
UID:3375-1665486000-1665496800@foolsendclub.com
SUMMARY:Classic Malts of Scotland Tasting
DESCRIPTION:Marlee Kreitzman will be on hand to host a tasting of the single malts distributed by Diageo. \nLight hors d’ oeuvres will be served. Tuesday October 11 at 6 PM.
URL:https://foolsendclub.com/event/classic-malts-of-scotland-tasting/
END:VEVENT
BEGIN:VEVENT
DTSTART;TZID=America/Denver:20221010T111500
DTEND;TZID=America/Denver:20221010T141500
DTSTAMP:20260419T174911
CREATED:20220927T095800Z
LAST-MODIFIED:20220927T095800Z
UID:3397-1665400500-1665411300@foolsendclub.com
SUMMARY:Raiders @ Chiefs
DESCRIPTION:The only Monday night game.
URL:https://foolsendclub.com/event/raiders-chiefs/
END:VEVENT
BEGIN:VEVENT
DTSTART;TZID=America/Denver:20221009T112000
DTEND;TZID=America/Denver:20221009T142000
DTSTAMP:20260419T174911
CREATED:20220927T095719Z
LAST-MODIFIED:20220927T095719Z
UID:3395-1665314400-1665325200@foolsendclub.com
SUMMARY:Bengals @ Ravens
DESCRIPTION:The only Sunday night game.
URL:https://foolsendclub.com/event/bengals-ravens/
END:VEVENT
BEGIN:VEVENT
DTSTART;TZID=America/Denver:20221009T072500
DTEND;TZID=America/Denver:20221009T102500
DTSTAMP:20260419T174911
CREATED:20220927T095632Z
LAST-MODIFIED:20220927T095632Z
UID:3393-1665300300-1665311100@foolsendclub.com
SUMMARY:Cowboys @ Rams / Eagles @ Cardinals
DESCRIPTION:These will be the only two late games shown on the Club’s two TVs.
URL:https://foolsendclub.com/event/cowboys-rams-eagles-cardinals/
END:VEVENT
BEGIN:VEVENT
DTSTART;TZID=America/Denver:20221009T040000
DTEND;TZID=America/Denver:20221009T070000
DTSTAMP:20260419T174911
CREATED:20220927T095530Z
LAST-MODIFIED:20220927T095530Z
UID:3391-1665288000-1665298800@foolsendclub.com
SUMMARY:Steelers @ Bills / Bears @ Vikings
DESCRIPTION:These will be the only two early games shown on the Club’s two TVs.
URL:https://foolsendclub.com/event/steelers-bills-bears-vikings/
END:VEVENT
BEGIN:VEVENT
DTSTART;TZID=America/Denver:20221006T180000
DTEND;TZID=America/Denver:20221006T210000
DTSTAMP:20260419T174911
CREATED:20220902T230443Z
LAST-MODIFIED:20220902T230443Z
UID:3318-1665079200-1665090000@foolsendclub.com
SUMMARY:Fools' End Annual Member's Meeting
DESCRIPTION:We will hold the annual “State of the Club” meeting on October 6th. Plan to attend The club will host dinner and a selection of bourbons.
URL:https://foolsendclub.com/event/fools-end-annual-members-meeting/
LOCATION:Fools’ End Club\, 631 Woody St.\, Missoula\, MT\, 59802\, United States
END:VEVENT
BEGIN:VEVENT
DTSTART;TZID=America/Denver:20221006T111500
DTEND;TZID=America/Denver:20221006T141500
DTSTAMP:20260419T174911
CREATED:20220927T095340Z
LAST-MODIFIED:20220927T095340Z
UID:3389-1665054900-1665065700@foolsendclub.com
SUMMARY:Colts @ Broncos
DESCRIPTION:The only Thursday night game.
URL:https://foolsendclub.com/event/colts-broncos/
END:VEVENT
BEGIN:VEVENT
DTSTART;TZID=America/Denver:20221003T111500
DTEND;TZID=America/Denver:20221003T141500
DTSTAMP:20260419T174911
CREATED:20220927T095238Z
LAST-MODIFIED:20220927T095238Z
UID:3386-1664795700-1664806500@foolsendclub.com
SUMMARY:Rams @ 49ers
DESCRIPTION:The only Monday night game.
URL:https://foolsendclub.com/event/rams-49ers/
END:VEVENT
BEGIN:VEVENT
DTSTART;TZID=America/Denver:20221002T112000
DTEND;TZID=America/Denver:20221002T142000
DTSTAMP:20260419T174911
CREATED:20220927T095154Z
LAST-MODIFIED:20220927T095154Z
UID:3384-1664709600-1664720400@foolsendclub.com
SUMMARY:Chiefs @ Bucaneers
DESCRIPTION:The only Sunday night game.
URL:https://foolsendclub.com/event/chiefs-bucaneers/
END:VEVENT
END:VCALENDAR