BEGIN:VCALENDAR
VERSION:2.0
PRODID:-//Fools' End Club | Private Cigar Club in Missoula, Montana - ECPv6.15.20//NONSGML v1.0//EN
CALSCALE:GREGORIAN
METHOD:PUBLISH
X-ORIGINAL-URL:https://foolsendclub.com
X-WR-CALDESC:Events for Fools' End Club | Private Cigar Club in Missoula, Montana
REFRESH-INTERVAL;VALUE=DURATION:PT1H
X-Robots-Tag:noindex
X-PUBLISHED-TTL:PT1H
BEGIN:VTIMEZONE
TZID:America/Denver
BEGIN:DAYLIGHT
TZOFFSETFROM:-0700
TZOFFSETTO:-0600
TZNAME:MDT
DTSTART:20180311T090000
END:DAYLIGHT
BEGIN:STANDARD
TZOFFSETFROM:-0600
TZOFFSETTO:-0700
TZNAME:MST
DTSTART:20181104T080000
END:STANDARD
BEGIN:DAYLIGHT
TZOFFSETFROM:-0700
TZOFFSETTO:-0600
TZNAME:MDT
DTSTART:20190310T090000
END:DAYLIGHT
BEGIN:STANDARD
TZOFFSETFROM:-0600
TZOFFSETTO:-0700
TZNAME:MST
DTSTART:20191103T080000
END:STANDARD
BEGIN:DAYLIGHT
TZOFFSETFROM:-0700
TZOFFSETTO:-0600
TZNAME:MDT
DTSTART:20200308T090000
END:DAYLIGHT
BEGIN:STANDARD
TZOFFSETFROM:-0600
TZOFFSETTO:-0700
TZNAME:MST
DTSTART:20201101T080000
END:STANDARD
END:VTIMEZONE
BEGIN:VEVENT
DTSTART;TZID=America/Denver:20191114T110000
DTEND;TZID=America/Denver:20191114T140000
DTSTAMP:20260421T002910
CREATED:20191011T004300Z
LAST-MODIFIED:20191011T004518Z
UID:2364-1573729200-1573740000@foolsendclub.com
SUMMARY:Thursday Night Dinner
DESCRIPTION:Tonight’s Dinner Host:\nTonight’s Menu:  \nJoin us for our weekly gathering and dinner\, courtesy our own members. Each week a different member will supply a fine meal while we converse\, watch football\, and enjoy cigars and drinks.
URL:https://foolsendclub.com/event/thursday-night-dinner-2019-11-14/
LOCATION:Fools’ End Club\, 631 Woody St.\, Missoula\, MT\, 59802\, United States
END:VEVENT
BEGIN:VEVENT
DTSTART;TZID=America/Denver:20191111T111500
DTEND;TZID=America/Denver:20191111T141500
DTSTAMP:20260421T002910
CREATED:20191011T010757Z
LAST-MODIFIED:20191011T011900Z
UID:2527-1573470900-1573481700@foolsendclub.com
SUMMARY:NFL Monday Night: Seahawks at 49ers
DESCRIPTION:Tonight’s Game: Seahawks at 49ers \nJoin us every Monday night to watch NFL on our two TVs.
URL:https://foolsendclub.com/event/nfl-monday-night-2019-11-11/
LOCATION:MT
END:VEVENT
BEGIN:VEVENT
DTSTART;TZID=America/Denver:20191108T110000
DTEND;TZID=America/Denver:20191108T130000
DTSTAMP:20260421T002910
CREATED:20191011T012750Z
LAST-MODIFIED:20191011T012750Z
UID:2559-1573210800-1573218000@foolsendclub.com
SUMMARY:Big Sky Cigar Co. Event
DESCRIPTION:Let’s welcome Big Sky Cigar Co. to the club. https://www.bigskycigar.com
URL:https://foolsendclub.com/event/big-sky-cigar-co-event/
LOCATION:Fools’ End Club\, 631 Woody St.\, Missoula\, MT\, 59802\, United States
END:VEVENT
BEGIN:VEVENT
DTSTART;TZID=America/Denver:20191107T112000
DTEND;TZID=America/Denver:20191107T142000
DTSTAMP:20260421T002910
CREATED:20191011T004931Z
LAST-MODIFIED:20191011T005759Z
UID:2487-1573125600-1573136400@foolsendclub.com
SUMMARY:NFL Thursday Night: Los Angeles Chargers at Oakland Raiders
DESCRIPTION:Tonight’s Game: Los Angeles Chargers at Oakland Raiders \nJoin us every Thursday to watch NFL on our two TVs.
URL:https://foolsendclub.com/event/nfl-thursday-night-football-2019-10-17-2019-11-07/
LOCATION:MT
END:VEVENT
BEGIN:VEVENT
DTSTART;TZID=America/Denver:20191107T110000
DTEND;TZID=America/Denver:20191107T140000
DTSTAMP:20260421T002910
CREATED:20191011T004300Z
LAST-MODIFIED:20191011T004518Z
UID:2363-1573124400-1573135200@foolsendclub.com
SUMMARY:Thursday Night Dinner
DESCRIPTION:Tonight’s Dinner Host:\nTonight’s Menu:  \nJoin us for our weekly gathering and dinner\, courtesy our own members. Each week a different member will supply a fine meal while we converse\, watch football\, and enjoy cigars and drinks.
URL:https://foolsendclub.com/event/thursday-night-dinner-2019-11-07/
LOCATION:Fools’ End Club\, 631 Woody St.\, Missoula\, MT\, 59802\, United States
END:VEVENT
BEGIN:VEVENT
DTSTART;TZID=America/Denver:20191104T111500
DTEND;TZID=America/Denver:20191104T141500
DTSTAMP:20260421T002910
CREATED:20191011T010757Z
LAST-MODIFIED:20191011T011103Z
UID:2526-1572866100-1572876900@foolsendclub.com
SUMMARY:NFL Monday Night: Cowboys at Giants
DESCRIPTION:Tonight’s Game: Cowboys at Giants \nJoin us every Monday night to watch NFL on our two TVs.
URL:https://foolsendclub.com/event/nfl-monday-night-2019-11-04/
LOCATION:MT
END:VEVENT
BEGIN:VEVENT
DTSTART;TZID=America/Denver:20191031T112000
DTEND;TZID=America/Denver:20191031T142000
DTSTAMP:20260421T002910
CREATED:20191011T004931Z
LAST-MODIFIED:20191011T005712Z
UID:2486-1572520800-1572531600@foolsendclub.com
SUMMARY:NFL Thursday Night: San Francisco 49ers at Arizona Cardinals
DESCRIPTION:Tonight’s Game: San Francisco 49ers at Arizona Cardinals \nJoin us every Thursday to watch NFL on our two TVs.
URL:https://foolsendclub.com/event/nfl-thursday-night-football-2019-10-17-2019-10-31/
LOCATION:MT
END:VEVENT
BEGIN:VEVENT
DTSTART;TZID=America/Denver:20191031T110000
DTEND;TZID=America/Denver:20191031T140000
DTSTAMP:20260421T002910
CREATED:20191011T004300Z
LAST-MODIFIED:20191011T004518Z
UID:2362-1572519600-1572530400@foolsendclub.com
SUMMARY:Thursday Night Dinner
DESCRIPTION:Tonight’s Dinner Host:\nTonight’s Menu:  \nJoin us for our weekly gathering and dinner\, courtesy our own members. Each week a different member will supply a fine meal while we converse\, watch football\, and enjoy cigars and drinks.
URL:https://foolsendclub.com/event/thursday-night-dinner-2019-10-31/
LOCATION:Fools’ End Club\, 631 Woody St.\, Missoula\, MT\, 59802\, United States
END:VEVENT
BEGIN:VEVENT
DTSTART;TZID=America/Denver:20191028T111500
DTEND;TZID=America/Denver:20191028T141500
DTSTAMP:20260421T002910
CREATED:20191011T010757Z
LAST-MODIFIED:20191011T011024Z
UID:2525-1572261300-1572272100@foolsendclub.com
SUMMARY:NFL Monday Night: Dolphins at Steelers
DESCRIPTION:Tonight’s Game: Dolphins at Steelers \nJoin us every Monday night to watch NFL on our two TVs.
URL:https://foolsendclub.com/event/nfl-monday-night-2019-10-28/
LOCATION:MT
END:VEVENT
BEGIN:VEVENT
DTSTART;TZID=America/Denver:20191025T110000
DTEND;TZID=America/Denver:20191025T130000
DTSTAMP:20260421T002910
CREATED:20191011T012639Z
LAST-MODIFIED:20191011T012639Z
UID:2557-1572001200-1572008400@foolsendclub.com
SUMMARY:Cattle Baron Cigar Event
DESCRIPTION:Join us in welcoming Cattle Baron Cigars back to the club.\n“The Spirit of the West Still Burns.” http://www.cattlebaroncigars.com
URL:https://foolsendclub.com/event/cattle-baron-cigar-event/
LOCATION:Fools’ End Club\, 631 Woody St.\, Missoula\, MT\, 59802\, United States
END:VEVENT
BEGIN:VEVENT
DTSTART;TZID=America/Denver:20191024T112000
DTEND;TZID=America/Denver:20191024T142000
DTSTAMP:20260421T002910
CREATED:20191011T004931Z
LAST-MODIFIED:20191011T005629Z
UID:2485-1571916000-1571926800@foolsendclub.com
SUMMARY:NFL Thursday Night: Washington Redskins at Minnesota Vikings
DESCRIPTION:Tonight’s Game: Washington Redskins at Minnesota Vikings \nJoin us every Thursday to watch NFL on our two TVs.
URL:https://foolsendclub.com/event/nfl-thursday-night-football-2019-10-17-2019-10-24/
LOCATION:MT
END:VEVENT
BEGIN:VEVENT
DTSTART;TZID=America/Denver:20191024T110000
DTEND;TZID=America/Denver:20191024T140000
DTSTAMP:20260421T002910
CREATED:20191011T004300Z
LAST-MODIFIED:20191011T004518Z
UID:2361-1571914800-1571925600@foolsendclub.com
SUMMARY:Thursday Night Dinner
DESCRIPTION:Tonight’s Dinner Host:\nTonight’s Menu:  \nJoin us for our weekly gathering and dinner\, courtesy our own members. Each week a different member will supply a fine meal while we converse\, watch football\, and enjoy cigars and drinks.
URL:https://foolsendclub.com/event/thursday-night-dinner-2019-10-24/
LOCATION:Fools’ End Club\, 631 Woody St.\, Missoula\, MT\, 59802\, United States
END:VEVENT
BEGIN:VEVENT
DTSTART;TZID=America/Denver:20191021T111500
DTEND;TZID=America/Denver:20191021T141500
DTSTAMP:20260421T002910
CREATED:20191011T010757Z
LAST-MODIFIED:20191011T010936Z
UID:2524-1571656500-1571667300@foolsendclub.com
SUMMARY:NFL Monday Night: Patriots at Jets
DESCRIPTION:Tonight’s Game: Patriots at Jets \nJoin us every Monday night to watch NFL on our two TVs.
URL:https://foolsendclub.com/event/nfl-monday-night-2019-10-21/
LOCATION:MT
END:VEVENT
BEGIN:VEVENT
DTSTART;TZID=America/Denver:20191017T112000
DTEND;TZID=America/Denver:20191017T142000
DTSTAMP:20260421T002910
CREATED:20191011T004931Z
LAST-MODIFIED:20191011T005507Z
UID:2484-1571311200-1571322000@foolsendclub.com
SUMMARY:NFL Thursday Night: Kansas City Chiefs at Denver Broncos
DESCRIPTION:Tonight’s Game: Kansas City Chiefs at Denver Broncos \nJoin us every Thursday to watch NFL on our two TVs.
URL:https://foolsendclub.com/event/nfl-thursday-night-football-2019-10-17/
LOCATION:MT
END:VEVENT
BEGIN:VEVENT
DTSTART;TZID=America/Denver:20191017T110000
DTEND;TZID=America/Denver:20191017T140000
DTSTAMP:20260421T002910
CREATED:20191011T004300Z
LAST-MODIFIED:20191011T004517Z
UID:2360-1571310000-1571320800@foolsendclub.com
SUMMARY:Thursday Night Dinner
DESCRIPTION:Tonight’s Dinner Host:\nTonight’s Menu:  \nJoin us for our weekly gathering and dinner\, courtesy our own members. Each week a different member will supply a fine meal while we converse\, watch football\, and enjoy cigars and drinks.
URL:https://foolsendclub.com/event/thursday-night-dinner-2019-10-17/
LOCATION:Fools’ End Club\, 631 Woody St.\, Missoula\, MT\, 59802\, United States
END:VEVENT
BEGIN:VEVENT
DTSTART;TZID=America/Denver:20191014T111500
DTEND;TZID=America/Denver:20191014T141500
DTSTAMP:20260421T002910
CREATED:20191011T010757Z
LAST-MODIFIED:20191011T010859Z
UID:2522-1571051700-1571062500@foolsendclub.com
SUMMARY:NFL Monday Night: Lions at Packers
DESCRIPTION:Tonight’s Game: Lions at Packers \nJoin us every Monday night to watch NFL on our two TVs.
URL:https://foolsendclub.com/event/nfl-monday-night/
LOCATION:MT
END:VEVENT
BEGIN:VEVENT
DTSTART;TZID=America/Denver:20191011T110000
DTEND;TZID=America/Denver:20191011T130000
DTSTAMP:20260421T002910
CREATED:20191011T012518Z
LAST-MODIFIED:20191011T012518Z
UID:2555-1570791600-1570798800@foolsendclub.com
SUMMARY:Tim Fox Meet & Greet
DESCRIPTION:Come have a cigar with Tim Fox. He’ll be answering questions at the Fools’ End Club.
URL:https://foolsendclub.com/event/tim-fox-meet-greet/
LOCATION:Fools’ End Club\, 631 Woody St.\, Missoula\, MT\, 59802\, United States
END:VEVENT
BEGIN:VEVENT
DTSTART;TZID=America/Denver:20191010T112000
DTEND;TZID=America/Denver:20191010T142000
DTSTAMP:20260421T002910
CREATED:20191011T004931Z
LAST-MODIFIED:20191011T005553Z
UID:2482-1570706400-1570717200@foolsendclub.com
SUMMARY:NFL Thursday Night: New York Giants at New England Patriots
DESCRIPTION:Tonight’s Game: New York Giants at New England Patriots \nJoin us every Thursday to watch NFL on our two TVs.
URL:https://foolsendclub.com/event/nfl-thursday-night-football/
LOCATION:MT
END:VEVENT
BEGIN:VEVENT
DTSTART;TZID=America/Denver:20191010T110000
DTEND;TZID=America/Denver:20191010T140000
DTSTAMP:20260421T002910
CREATED:20191011T004300Z
LAST-MODIFIED:20191011T004619Z
UID:2358-1570705200-1570716000@foolsendclub.com
SUMMARY:Thursday Night Dinner
DESCRIPTION:Tonight’s Dinner Host: Kipp\nTonight’s Menu: Moose Roast \nJoin us for our weekly gathering and dinner\, courtesy our own members. Each week a different member will supply a fine meal while we converse\, watch football\, and enjoy cigars and drinks.
URL:https://foolsendclub.com/event/thursday-night-dinner/
LOCATION:Fools’ End Club\, 631 Woody St.\, Missoula\, MT\, 59802\, United States
END:VEVENT
END:VCALENDAR