BEGIN:VCALENDAR
VERSION:2.0
PRODID:-//Fools' End Club | Private Cigar Club in Missoula, Montana - ECPv6.15.20//NONSGML v1.0//EN
CALSCALE:GREGORIAN
METHOD:PUBLISH
X-ORIGINAL-URL:https://foolsendclub.com
X-WR-CALDESC:Events for Fools' End Club | Private Cigar Club in Missoula, Montana
REFRESH-INTERVAL;VALUE=DURATION:PT1H
X-Robots-Tag:noindex
X-PUBLISHED-TTL:PT1H
BEGIN:VTIMEZONE
TZID:America/Denver
BEGIN:DAYLIGHT
TZOFFSETFROM:-0700
TZOFFSETTO:-0600
TZNAME:MDT
DTSTART:20180311T090000
END:DAYLIGHT
BEGIN:STANDARD
TZOFFSETFROM:-0600
TZOFFSETTO:-0700
TZNAME:MST
DTSTART:20181104T080000
END:STANDARD
BEGIN:DAYLIGHT
TZOFFSETFROM:-0700
TZOFFSETTO:-0600
TZNAME:MDT
DTSTART:20190310T090000
END:DAYLIGHT
BEGIN:STANDARD
TZOFFSETFROM:-0600
TZOFFSETTO:-0700
TZNAME:MST
DTSTART:20191103T080000
END:STANDARD
BEGIN:DAYLIGHT
TZOFFSETFROM:-0700
TZOFFSETTO:-0600
TZNAME:MDT
DTSTART:20200308T090000
END:DAYLIGHT
BEGIN:STANDARD
TZOFFSETFROM:-0600
TZOFFSETTO:-0700
TZNAME:MST
DTSTART:20201101T080000
END:STANDARD
BEGIN:DAYLIGHT
TZOFFSETFROM:-0700
TZOFFSETTO:-0600
TZNAME:MDT
DTSTART:20210314T090000
END:DAYLIGHT
BEGIN:STANDARD
TZOFFSETFROM:-0600
TZOFFSETTO:-0700
TZNAME:MST
DTSTART:20211107T080000
END:STANDARD
END:VTIMEZONE
BEGIN:VEVENT
DTSTART;TZID=America/Denver:20200130T110000
DTEND;TZID=America/Denver:20200130T140000
DTSTAMP:20260420T213917
CREATED:20191011T004300Z
LAST-MODIFIED:20191011T004520Z
UID:2375-1580382000-1580392800@foolsendclub.com
SUMMARY:Thursday Night Dinner
DESCRIPTION:Tonight’s Dinner Host:\nTonight’s Menu:  \nJoin us for our weekly gathering and dinner\, courtesy our own members. Each week a different member will supply a fine meal while we converse\, watch football\, and enjoy cigars and drinks.
URL:https://foolsendclub.com/event/thursday-night-dinner-2020-01-30/
LOCATION:Fools’ End Club\, 631 Woody St.\, Missoula\, MT\, 59802\, United States
END:VEVENT
BEGIN:VEVENT
DTSTART;TZID=America/Denver:20200123T110000
DTEND;TZID=America/Denver:20200123T140000
DTSTAMP:20260420T213917
CREATED:20191011T004300Z
LAST-MODIFIED:20191011T004520Z
UID:2374-1579777200-1579788000@foolsendclub.com
SUMMARY:Thursday Night Dinner
DESCRIPTION:Tonight’s Dinner Host:\nTonight’s Menu:  \nJoin us for our weekly gathering and dinner\, courtesy our own members. Each week a different member will supply a fine meal while we converse\, watch football\, and enjoy cigars and drinks.
URL:https://foolsendclub.com/event/thursday-night-dinner-2020-01-23/
LOCATION:Fools’ End Club\, 631 Woody St.\, Missoula\, MT\, 59802\, United States
END:VEVENT
BEGIN:VEVENT
DTSTART;TZID=America/Denver:20200116T110000
DTEND;TZID=America/Denver:20200116T140000
DTSTAMP:20260420T213917
CREATED:20191011T004300Z
LAST-MODIFIED:20191011T004519Z
UID:2373-1579172400-1579183200@foolsendclub.com
SUMMARY:Thursday Night Dinner
DESCRIPTION:Tonight’s Dinner Host:\nTonight’s Menu:  \nJoin us for our weekly gathering and dinner\, courtesy our own members. Each week a different member will supply a fine meal while we converse\, watch football\, and enjoy cigars and drinks.
URL:https://foolsendclub.com/event/thursday-night-dinner-2020-01-16/
LOCATION:Fools’ End Club\, 631 Woody St.\, Missoula\, MT\, 59802\, United States
END:VEVENT
BEGIN:VEVENT
DTSTART;TZID=America/Denver:20200109T110000
DTEND;TZID=America/Denver:20200109T140000
DTSTAMP:20260420T213917
CREATED:20191011T004300Z
LAST-MODIFIED:20191011T004519Z
UID:2372-1578567600-1578578400@foolsendclub.com
SUMMARY:Thursday Night Dinner
DESCRIPTION:Tonight’s Dinner Host:\nTonight’s Menu:  \nJoin us for our weekly gathering and dinner\, courtesy our own members. Each week a different member will supply a fine meal while we converse\, watch football\, and enjoy cigars and drinks.
URL:https://foolsendclub.com/event/thursday-night-dinner-2020-01-09/
LOCATION:Fools’ End Club\, 631 Woody St.\, Missoula\, MT\, 59802\, United States
END:VEVENT
BEGIN:VEVENT
DTSTART;TZID=America/Denver:20200102T110000
DTEND;TZID=America/Denver:20200102T140000
DTSTAMP:20260420T213917
CREATED:20191011T004300Z
LAST-MODIFIED:20191011T004519Z
UID:2371-1577962800-1577973600@foolsendclub.com
SUMMARY:Thursday Night Dinner
DESCRIPTION:Tonight’s Dinner Host:\nTonight’s Menu:  \nJoin us for our weekly gathering and dinner\, courtesy our own members. Each week a different member will supply a fine meal while we converse\, watch football\, and enjoy cigars and drinks.
URL:https://foolsendclub.com/event/thursday-night-dinner-2020-01-02/
LOCATION:Fools’ End Club\, 631 Woody St.\, Missoula\, MT\, 59802\, United States
END:VEVENT
BEGIN:VEVENT
DTSTART;TZID=America/Denver:20191226T110000
DTEND;TZID=America/Denver:20191226T140000
DTSTAMP:20260420T213917
CREATED:20191011T004300Z
LAST-MODIFIED:20191011T004519Z
UID:2370-1577358000-1577368800@foolsendclub.com
SUMMARY:Thursday Night Dinner
DESCRIPTION:Tonight’s Dinner Host:\nTonight’s Menu:  \nJoin us for our weekly gathering and dinner\, courtesy our own members. Each week a different member will supply a fine meal while we converse\, watch football\, and enjoy cigars and drinks.
URL:https://foolsendclub.com/event/thursday-night-dinner-2019-12-26/
LOCATION:Fools’ End Club\, 631 Woody St.\, Missoula\, MT\, 59802\, United States
END:VEVENT
BEGIN:VEVENT
DTSTART;TZID=America/Denver:20191223T111500
DTEND;TZID=America/Denver:20191223T141500
DTSTAMP:20260420T213917
CREATED:20191011T010757Z
LAST-MODIFIED:20191011T012417Z
UID:2533-1577099700-1577110500@foolsendclub.com
SUMMARY:NFL Monday Night: Packers at Vikings
DESCRIPTION:Tonight’s Game: Packers at Vikings \nJoin us every Monday night to watch NFL on our two TVs.
URL:https://foolsendclub.com/event/nfl-monday-night-2019-12-23/
LOCATION:MT
END:VEVENT
BEGIN:VEVENT
DTSTART;TZID=America/Denver:20191219T120000
DTEND;TZID=America/Denver:20191219T150000
DTSTAMP:20260420T213917
CREATED:20191206T020830Z
LAST-MODIFIED:20191206T020830Z
UID:2601-1576756800-1576767600@foolsendclub.com
SUMMARY:Single Malt & Bourbon Tasting
DESCRIPTION:For the second consecutive year Kevin Head has graciously decided to host a Single Malt and Bourbon tasting!  If you recall last year’s event Kevin had a remarkable collection that was stationed in various parts of the club. Kevin hosted the evening with conversation and presentations about the different bottles. \nEvent Details:\nWhen: December 19th\, 7:00 PM\nDetails: Single Malt & Bourbon tasting with light hors d’oeuvres\nCost: $85 for members and their families\, $100 for non related guests. Charged to your account or other payment if arranged. \nRSVP needed. Please be quick in responding!\nProceeds from the event will be dedicated to retiring legal debt.\nThanks and we look forward to seeing you!
URL:https://foolsendclub.com/event/single-malt-bourbon-tasting/
LOCATION:MT
END:VEVENT
BEGIN:VEVENT
DTSTART;TZID=America/Denver:20191219T110000
DTEND;TZID=America/Denver:20191219T140000
DTSTAMP:20260420T213917
CREATED:20191011T004300Z
LAST-MODIFIED:20191011T004519Z
UID:2369-1576753200-1576764000@foolsendclub.com
SUMMARY:Thursday Night Dinner
DESCRIPTION:Tonight’s Dinner Host:\nTonight’s Menu:  \nJoin us for our weekly gathering and dinner\, courtesy our own members. Each week a different member will supply a fine meal while we converse\, watch football\, and enjoy cigars and drinks.
URL:https://foolsendclub.com/event/thursday-night-dinner-2019-12-19/
LOCATION:Fools’ End Club\, 631 Woody St.\, Missoula\, MT\, 59802\, United States
END:VEVENT
BEGIN:VEVENT
DTSTART;TZID=America/Denver:20191216T111500
DTEND;TZID=America/Denver:20191216T141500
DTSTAMP:20260420T213917
CREATED:20191011T010757Z
LAST-MODIFIED:20191011T012333Z
UID:2532-1576494900-1576505700@foolsendclub.com
SUMMARY:NFL Monday Night: Colts at Saints
DESCRIPTION:Tonight’s Game: Colts at Saints \nJoin us every Monday night to watch NFL on our two TVs.
URL:https://foolsendclub.com/event/nfl-monday-night-2019-12-16/
LOCATION:MT
END:VEVENT
BEGIN:VEVENT
DTSTART;TZID=America/Denver:20191214T090000
DTEND;TZID=America/Denver:20191214T140000
DTSTAMP:20260420T213917
CREATED:20191206T020721Z
LAST-MODIFIED:20191206T020721Z
UID:2599-1576314000-1576332000@foolsendclub.com
SUMMARY:Member Christmas Party
DESCRIPTION:Set aside December 14\, 2019\, starting at 4:00 pm.  \nEvent: The official Fool’s End Christmas Party.  \nBring a $20 gift for White Elephant gift exchange and a dish to share for our pot luck buffet.
URL:https://foolsendclub.com/event/member-christmas-party/
LOCATION:MT
END:VEVENT
BEGIN:VEVENT
DTSTART;TZID=America/Denver:20191212T112000
DTEND;TZID=America/Denver:20191212T142000
DTSTAMP:20260420T213917
CREATED:20191011T004931Z
LAST-MODIFIED:20191011T010420Z
UID:2492-1576149600-1576160400@foolsendclub.com
SUMMARY:NFL Thursday Night: New York Jets at Baltimore Ravens
DESCRIPTION:Tonight’s Game: New York Jets at Baltimore Ravens \nJoin us every Thursday to watch NFL on our two TVs.
URL:https://foolsendclub.com/event/nfl-thursday-night-football-2019-10-17-2019-12-12/
LOCATION:MT
END:VEVENT
BEGIN:VEVENT
DTSTART;TZID=America/Denver:20191212T110000
DTEND;TZID=America/Denver:20191212T140000
DTSTAMP:20260420T213917
CREATED:20191011T004300Z
LAST-MODIFIED:20191011T004519Z
UID:2368-1576148400-1576159200@foolsendclub.com
SUMMARY:Thursday Night Dinner
DESCRIPTION:Tonight’s Dinner Host:\nTonight’s Menu:  \nJoin us for our weekly gathering and dinner\, courtesy our own members. Each week a different member will supply a fine meal while we converse\, watch football\, and enjoy cigars and drinks.
URL:https://foolsendclub.com/event/thursday-night-dinner-2019-12-12/
LOCATION:Fools’ End Club\, 631 Woody St.\, Missoula\, MT\, 59802\, United States
END:VEVENT
BEGIN:VEVENT
DTSTART;TZID=America/Denver:20191209T111500
DTEND;TZID=America/Denver:20191209T141500
DTSTAMP:20260420T213917
CREATED:20191011T010757Z
LAST-MODIFIED:20191011T012254Z
UID:2531-1575890100-1575900900@foolsendclub.com
SUMMARY:NFL Monday Night: Giants at Eagles
DESCRIPTION:Tonight’s Game: Giants at Eagles \nJoin us every Monday night to watch NFL on our two TVs.
URL:https://foolsendclub.com/event/nfl-monday-night-2019-12-09/
LOCATION:MT
END:VEVENT
BEGIN:VEVENT
DTSTART;TZID=America/Denver:20191205T112000
DTEND;TZID=America/Denver:20191205T142000
DTSTAMP:20260420T213917
CREATED:20191011T004931Z
LAST-MODIFIED:20191011T010328Z
UID:2491-1575544800-1575555600@foolsendclub.com
SUMMARY:NFL Thursday Night: Dallas Cowboys at Chicago Bears
DESCRIPTION:Tonight’s Game: Dallas Cowboys at Chicago Bears \nJoin us every Thursday to watch NFL on our two TVs.
URL:https://foolsendclub.com/event/nfl-thursday-night-football-2019-10-17-2019-12-05/
LOCATION:MT
END:VEVENT
BEGIN:VEVENT
DTSTART;TZID=America/Denver:20191205T110000
DTEND;TZID=America/Denver:20191205T140000
DTSTAMP:20260420T213917
CREATED:20191011T004300Z
LAST-MODIFIED:20191011T004518Z
UID:2367-1575543600-1575554400@foolsendclub.com
SUMMARY:Thursday Night Dinner
DESCRIPTION:Tonight’s Dinner Host:\nTonight’s Menu:  \nJoin us for our weekly gathering and dinner\, courtesy our own members. Each week a different member will supply a fine meal while we converse\, watch football\, and enjoy cigars and drinks.
URL:https://foolsendclub.com/event/thursday-night-dinner-2019-12-05/
LOCATION:Fools’ End Club\, 631 Woody St.\, Missoula\, MT\, 59802\, United States
END:VEVENT
BEGIN:VEVENT
DTSTART;TZID=America/Denver:20191205T110000
DTEND;TZID=America/Denver:20191205T130000
DTSTAMP:20260420T213917
CREATED:20191206T020634Z
LAST-MODIFIED:20191206T020634Z
UID:2597-1575543600-1575550800@foolsendclub.com
SUMMARY:Meet Senate candidate John Mues
DESCRIPTION:On Thursday\, December 5th\, 6pm-8pm\, the club will be hosting Senate candidate John Mues. \nIf you know a cigar smoker that would be interested in meeting and talking to John Mues\, please feel free to bring them as your guest.
URL:https://foolsendclub.com/event/meet-senate-candidate-john-mues/
LOCATION:MT
END:VEVENT
BEGIN:VEVENT
DTSTART;TZID=America/Denver:20191202T111500
DTEND;TZID=America/Denver:20191202T141500
DTSTAMP:20260420T213917
CREATED:20191011T010757Z
LAST-MODIFIED:20191011T012206Z
UID:2530-1575285300-1575296100@foolsendclub.com
SUMMARY:NFL Monday Night: Vikings at Seahawks
DESCRIPTION:Tonight’s Game: Vikings at Seahawks \nJoin us every Monday night to watch NFL on our two TVs.
URL:https://foolsendclub.com/event/nfl-monday-night-2019-12-02/
LOCATION:MT
END:VEVENT
BEGIN:VEVENT
DTSTART;TZID=America/Denver:20191128T112000
DTEND;TZID=America/Denver:20191128T142000
DTSTAMP:20260420T213917
CREATED:20191011T004931Z
LAST-MODIFIED:20191011T010235Z
UID:2490-1574940000-1574950800@foolsendclub.com
SUMMARY:NFL Thursday Night: New Orleans Saints at Atlanta Falcons
DESCRIPTION:Tonight’s Game: New Orleans Saints at Atlanta Falcons \nJoin us every Thursday to watch NFL on our two TVs.
URL:https://foolsendclub.com/event/nfl-thursday-night-football-2019-10-17-2019-11-28/
LOCATION:MT
END:VEVENT
BEGIN:VEVENT
DTSTART;TZID=America/Denver:20191125T111500
DTEND;TZID=America/Denver:20191125T141500
DTSTAMP:20260420T213917
CREATED:20191011T010757Z
LAST-MODIFIED:20191011T012129Z
UID:2529-1574680500-1574691300@foolsendclub.com
SUMMARY:NFL Monday Night: Ravens at Rams
DESCRIPTION:Tonight’s Game: Ravens at Rams \nJoin us every Monday night to watch NFL on our two TVs.
URL:https://foolsendclub.com/event/nfl-monday-night-2019-11-25/
LOCATION:MT
END:VEVENT
BEGIN:VEVENT
DTSTART;TZID=America/Denver:20191121T112000
DTEND;TZID=America/Denver:20191121T142000
DTSTAMP:20260420T213917
CREATED:20191011T004931Z
LAST-MODIFIED:20191011T010058Z
UID:2489-1574335200-1574346000@foolsendclub.com
SUMMARY:NFL Thursday Night: Indianapolis Colts at Houston Texans
DESCRIPTION:Tonight’s Game: Indianapolis Colts at Houston Texans \nJoin us every Thursday to watch NFL on our two TVs.
URL:https://foolsendclub.com/event/nfl-thursday-night-football-2019-10-17-2019-11-21/
LOCATION:MT
END:VEVENT
BEGIN:VEVENT
DTSTART;TZID=America/Denver:20191121T110000
DTEND;TZID=America/Denver:20191121T140000
DTSTAMP:20260420T213917
CREATED:20191011T004300Z
LAST-MODIFIED:20191011T004518Z
UID:2365-1574334000-1574344800@foolsendclub.com
SUMMARY:Thursday Night Dinner
DESCRIPTION:Tonight’s Dinner Host:\nTonight’s Menu:  \nJoin us for our weekly gathering and dinner\, courtesy our own members. Each week a different member will supply a fine meal while we converse\, watch football\, and enjoy cigars and drinks.
URL:https://foolsendclub.com/event/thursday-night-dinner-2019-11-21/
LOCATION:Fools’ End Club\, 631 Woody St.\, Missoula\, MT\, 59802\, United States
END:VEVENT
BEGIN:VEVENT
DTSTART;TZID=America/Denver:20191118T111500
DTEND;TZID=America/Denver:20191118T141500
DTSTAMP:20260420T213917
CREATED:20191011T010757Z
LAST-MODIFIED:20191011T012039Z
UID:2528-1574075700-1574086500@foolsendclub.com
SUMMARY:NFL Monday Night: Chiefs at Chargers
DESCRIPTION:Tonight’s Game: Chiefs at Chargers \nJoin us every Monday night to watch NFL on our two TVs.
URL:https://foolsendclub.com/event/nfl-monday-night-2019-11-18/
LOCATION:MT
END:VEVENT
BEGIN:VEVENT
DTSTART;TZID=America/Denver:20191114T112000
DTEND;TZID=America/Denver:20191114T142000
DTSTAMP:20260420T213917
CREATED:20191011T004931Z
LAST-MODIFIED:20191011T005843Z
UID:2488-1573730400-1573741200@foolsendclub.com
SUMMARY:NFL Thursday Night: Pittsburgh Steelers at Cleveland Browns
DESCRIPTION:Tonight’s Game: Pittsburgh Steelers at Cleveland Browns \nJoin us every Thursday to watch NFL on our two TVs.
URL:https://foolsendclub.com/event/nfl-thursday-night-football-2019-10-17-2019-11-14/
LOCATION:MT
END:VEVENT
BEGIN:VEVENT
DTSTART;TZID=America/Denver:20191114T110000
DTEND;TZID=America/Denver:20191114T140000
DTSTAMP:20260420T213917
CREATED:20191011T004300Z
LAST-MODIFIED:20191011T004518Z
UID:2364-1573729200-1573740000@foolsendclub.com
SUMMARY:Thursday Night Dinner
DESCRIPTION:Tonight’s Dinner Host:\nTonight’s Menu:  \nJoin us for our weekly gathering and dinner\, courtesy our own members. Each week a different member will supply a fine meal while we converse\, watch football\, and enjoy cigars and drinks.
URL:https://foolsendclub.com/event/thursday-night-dinner-2019-11-14/
LOCATION:Fools’ End Club\, 631 Woody St.\, Missoula\, MT\, 59802\, United States
END:VEVENT
BEGIN:VEVENT
DTSTART;TZID=America/Denver:20191111T111500
DTEND;TZID=America/Denver:20191111T141500
DTSTAMP:20260420T213917
CREATED:20191011T010757Z
LAST-MODIFIED:20191011T011900Z
UID:2527-1573470900-1573481700@foolsendclub.com
SUMMARY:NFL Monday Night: Seahawks at 49ers
DESCRIPTION:Tonight’s Game: Seahawks at 49ers \nJoin us every Monday night to watch NFL on our two TVs.
URL:https://foolsendclub.com/event/nfl-monday-night-2019-11-11/
LOCATION:MT
END:VEVENT
BEGIN:VEVENT
DTSTART;TZID=America/Denver:20191108T110000
DTEND;TZID=America/Denver:20191108T130000
DTSTAMP:20260420T213917
CREATED:20191011T012750Z
LAST-MODIFIED:20191011T012750Z
UID:2559-1573210800-1573218000@foolsendclub.com
SUMMARY:Big Sky Cigar Co. Event
DESCRIPTION:Let’s welcome Big Sky Cigar Co. to the club. https://www.bigskycigar.com
URL:https://foolsendclub.com/event/big-sky-cigar-co-event/
LOCATION:Fools’ End Club\, 631 Woody St.\, Missoula\, MT\, 59802\, United States
END:VEVENT
BEGIN:VEVENT
DTSTART;TZID=America/Denver:20191107T112000
DTEND;TZID=America/Denver:20191107T142000
DTSTAMP:20260420T213917
CREATED:20191011T004931Z
LAST-MODIFIED:20191011T005759Z
UID:2487-1573125600-1573136400@foolsendclub.com
SUMMARY:NFL Thursday Night: Los Angeles Chargers at Oakland Raiders
DESCRIPTION:Tonight’s Game: Los Angeles Chargers at Oakland Raiders \nJoin us every Thursday to watch NFL on our two TVs.
URL:https://foolsendclub.com/event/nfl-thursday-night-football-2019-10-17-2019-11-07/
LOCATION:MT
END:VEVENT
BEGIN:VEVENT
DTSTART;TZID=America/Denver:20191107T110000
DTEND;TZID=America/Denver:20191107T140000
DTSTAMP:20260420T213917
CREATED:20191011T004300Z
LAST-MODIFIED:20191011T004518Z
UID:2363-1573124400-1573135200@foolsendclub.com
SUMMARY:Thursday Night Dinner
DESCRIPTION:Tonight’s Dinner Host:\nTonight’s Menu:  \nJoin us for our weekly gathering and dinner\, courtesy our own members. Each week a different member will supply a fine meal while we converse\, watch football\, and enjoy cigars and drinks.
URL:https://foolsendclub.com/event/thursday-night-dinner-2019-11-07/
LOCATION:Fools’ End Club\, 631 Woody St.\, Missoula\, MT\, 59802\, United States
END:VEVENT
BEGIN:VEVENT
DTSTART;TZID=America/Denver:20191104T111500
DTEND;TZID=America/Denver:20191104T141500
DTSTAMP:20260420T213917
CREATED:20191011T010757Z
LAST-MODIFIED:20191011T011103Z
UID:2526-1572866100-1572876900@foolsendclub.com
SUMMARY:NFL Monday Night: Cowboys at Giants
DESCRIPTION:Tonight’s Game: Cowboys at Giants \nJoin us every Monday night to watch NFL on our two TVs.
URL:https://foolsendclub.com/event/nfl-monday-night-2019-11-04/
LOCATION:MT
END:VEVENT
END:VCALENDAR