BEGIN:VCALENDAR
VERSION:2.0
PRODID:-//Fools' End Club | Private Cigar Club in Missoula, Montana - ECPv6.15.20//NONSGML v1.0//EN
CALSCALE:GREGORIAN
METHOD:PUBLISH
X-ORIGINAL-URL:https://foolsendclub.com
X-WR-CALDESC:Events for Fools' End Club | Private Cigar Club in Missoula, Montana
REFRESH-INTERVAL;VALUE=DURATION:PT1H
X-Robots-Tag:noindex
X-PUBLISHED-TTL:PT1H
BEGIN:VTIMEZONE
TZID:America/Denver
BEGIN:DAYLIGHT
TZOFFSETFROM:-0700
TZOFFSETTO:-0600
TZNAME:MDT
DTSTART:20190310T090000
END:DAYLIGHT
BEGIN:STANDARD
TZOFFSETFROM:-0600
TZOFFSETTO:-0700
TZNAME:MST
DTSTART:20191103T080000
END:STANDARD
BEGIN:DAYLIGHT
TZOFFSETFROM:-0700
TZOFFSETTO:-0600
TZNAME:MDT
DTSTART:20200308T090000
END:DAYLIGHT
BEGIN:STANDARD
TZOFFSETFROM:-0600
TZOFFSETTO:-0700
TZNAME:MST
DTSTART:20201101T080000
END:STANDARD
BEGIN:DAYLIGHT
TZOFFSETFROM:-0700
TZOFFSETTO:-0600
TZNAME:MDT
DTSTART:20210314T090000
END:DAYLIGHT
BEGIN:STANDARD
TZOFFSETFROM:-0600
TZOFFSETTO:-0700
TZNAME:MST
DTSTART:20211107T080000
END:STANDARD
END:VTIMEZONE
BEGIN:VEVENT
DTSTART;TZID=America/Denver:20201008T110000
DTEND;TZID=America/Denver:20201008T140000
DTSTAMP:20260420T163922
CREATED:20191011T004300Z
LAST-MODIFIED:20191011T004526Z
UID:2411-1602154800-1602165600@foolsendclub.com
SUMMARY:Thursday Night Dinner
DESCRIPTION:Tonight’s Dinner Host:\nTonight’s Menu:  \nJoin us for our weekly gathering and dinner\, courtesy our own members. Each week a different member will supply a fine meal while we converse\, watch football\, and enjoy cigars and drinks.
URL:https://foolsendclub.com/event/thursday-night-dinner-2020-10-08/
LOCATION:Fools’ End Club\, 631 Woody St.\, Missoula\, MT\, 59802\, United States
END:VEVENT
BEGIN:VEVENT
DTSTART;TZID=America/Denver:20201001T110000
DTEND;TZID=America/Denver:20201001T140000
DTSTAMP:20260420T163922
CREATED:20191011T004300Z
LAST-MODIFIED:20191011T004525Z
UID:2410-1601550000-1601560800@foolsendclub.com
SUMMARY:Thursday Night Dinner
DESCRIPTION:Tonight’s Dinner Host:\nTonight’s Menu:  \nJoin us for our weekly gathering and dinner\, courtesy our own members. Each week a different member will supply a fine meal while we converse\, watch football\, and enjoy cigars and drinks.
URL:https://foolsendclub.com/event/thursday-night-dinner-2020-10-01/
LOCATION:Fools’ End Club\, 631 Woody St.\, Missoula\, MT\, 59802\, United States
END:VEVENT
BEGIN:VEVENT
DTSTART;TZID=America/Denver:20200924T110000
DTEND;TZID=America/Denver:20200924T140000
DTSTAMP:20260420T163922
CREATED:20191011T004300Z
LAST-MODIFIED:20191011T004525Z
UID:2409-1600945200-1600956000@foolsendclub.com
SUMMARY:Thursday Night Dinner
DESCRIPTION:Tonight’s Dinner Host:\nTonight’s Menu:  \nJoin us for our weekly gathering and dinner\, courtesy our own members. Each week a different member will supply a fine meal while we converse\, watch football\, and enjoy cigars and drinks.
URL:https://foolsendclub.com/event/thursday-night-dinner-2020-09-24/
LOCATION:Fools’ End Club\, 631 Woody St.\, Missoula\, MT\, 59802\, United States
END:VEVENT
BEGIN:VEVENT
DTSTART;TZID=America/Denver:20200917T110000
DTEND;TZID=America/Denver:20200917T140000
DTSTAMP:20260420T163922
CREATED:20191011T004300Z
LAST-MODIFIED:20191011T004525Z
UID:2408-1600340400-1600351200@foolsendclub.com
SUMMARY:Thursday Night Dinner
DESCRIPTION:Tonight’s Dinner Host:\nTonight’s Menu:  \nJoin us for our weekly gathering and dinner\, courtesy our own members. Each week a different member will supply a fine meal while we converse\, watch football\, and enjoy cigars and drinks.
URL:https://foolsendclub.com/event/thursday-night-dinner-2020-09-17/
LOCATION:Fools’ End Club\, 631 Woody St.\, Missoula\, MT\, 59802\, United States
END:VEVENT
BEGIN:VEVENT
DTSTART;TZID=America/Denver:20200910T110000
DTEND;TZID=America/Denver:20200910T140000
DTSTAMP:20260420T163922
CREATED:20191011T004300Z
LAST-MODIFIED:20191011T004525Z
UID:2407-1599735600-1599746400@foolsendclub.com
SUMMARY:Thursday Night Dinner
DESCRIPTION:Tonight’s Dinner Host:\nTonight’s Menu:  \nJoin us for our weekly gathering and dinner\, courtesy our own members. Each week a different member will supply a fine meal while we converse\, watch football\, and enjoy cigars and drinks.
URL:https://foolsendclub.com/event/thursday-night-dinner-2020-09-10/
LOCATION:Fools’ End Club\, 631 Woody St.\, Missoula\, MT\, 59802\, United States
END:VEVENT
BEGIN:VEVENT
DTSTART;TZID=America/Denver:20200903T110000
DTEND;TZID=America/Denver:20200903T140000
DTSTAMP:20260420T163922
CREATED:20191011T004300Z
LAST-MODIFIED:20191011T004525Z
UID:2406-1599130800-1599141600@foolsendclub.com
SUMMARY:Thursday Night Dinner
DESCRIPTION:Tonight’s Dinner Host:\nTonight’s Menu:  \nJoin us for our weekly gathering and dinner\, courtesy our own members. Each week a different member will supply a fine meal while we converse\, watch football\, and enjoy cigars and drinks.
URL:https://foolsendclub.com/event/thursday-night-dinner-2020-09-03/
LOCATION:Fools’ End Club\, 631 Woody St.\, Missoula\, MT\, 59802\, United States
END:VEVENT
BEGIN:VEVENT
DTSTART;TZID=America/Denver:20200827T110000
DTEND;TZID=America/Denver:20200827T140000
DTSTAMP:20260420T163922
CREATED:20191011T004300Z
LAST-MODIFIED:20191011T004525Z
UID:2405-1598526000-1598536800@foolsendclub.com
SUMMARY:Thursday Night Dinner
DESCRIPTION:Tonight’s Dinner Host:\nTonight’s Menu:  \nJoin us for our weekly gathering and dinner\, courtesy our own members. Each week a different member will supply a fine meal while we converse\, watch football\, and enjoy cigars and drinks.
URL:https://foolsendclub.com/event/thursday-night-dinner-2020-08-27/
LOCATION:Fools’ End Club\, 631 Woody St.\, Missoula\, MT\, 59802\, United States
END:VEVENT
BEGIN:VEVENT
DTSTART;TZID=America/Denver:20200820T110000
DTEND;TZID=America/Denver:20200820T140000
DTSTAMP:20260420T163922
CREATED:20191011T004300Z
LAST-MODIFIED:20191011T004524Z
UID:2404-1597921200-1597932000@foolsendclub.com
SUMMARY:Thursday Night Dinner
DESCRIPTION:Tonight’s Dinner Host:\nTonight’s Menu:  \nJoin us for our weekly gathering and dinner\, courtesy our own members. Each week a different member will supply a fine meal while we converse\, watch football\, and enjoy cigars and drinks.
URL:https://foolsendclub.com/event/thursday-night-dinner-2020-08-20/
LOCATION:Fools’ End Club\, 631 Woody St.\, Missoula\, MT\, 59802\, United States
END:VEVENT
BEGIN:VEVENT
DTSTART;TZID=America/Denver:20200813T110000
DTEND;TZID=America/Denver:20200813T140000
DTSTAMP:20260420T163922
CREATED:20191011T004300Z
LAST-MODIFIED:20191011T004524Z
UID:2403-1597316400-1597327200@foolsendclub.com
SUMMARY:Thursday Night Dinner
DESCRIPTION:Tonight’s Dinner Host:\nTonight’s Menu:  \nJoin us for our weekly gathering and dinner\, courtesy our own members. Each week a different member will supply a fine meal while we converse\, watch football\, and enjoy cigars and drinks.
URL:https://foolsendclub.com/event/thursday-night-dinner-2020-08-13/
LOCATION:Fools’ End Club\, 631 Woody St.\, Missoula\, MT\, 59802\, United States
END:VEVENT
BEGIN:VEVENT
DTSTART;TZID=America/Denver:20200806T110000
DTEND;TZID=America/Denver:20200806T140000
DTSTAMP:20260420T163922
CREATED:20191011T004300Z
LAST-MODIFIED:20191011T004524Z
UID:2402-1596711600-1596722400@foolsendclub.com
SUMMARY:Thursday Night Dinner
DESCRIPTION:Tonight’s Dinner Host:\nTonight’s Menu:  \nJoin us for our weekly gathering and dinner\, courtesy our own members. Each week a different member will supply a fine meal while we converse\, watch football\, and enjoy cigars and drinks.
URL:https://foolsendclub.com/event/thursday-night-dinner-2020-08-06/
LOCATION:Fools’ End Club\, 631 Woody St.\, Missoula\, MT\, 59802\, United States
END:VEVENT
BEGIN:VEVENT
DTSTART;TZID=America/Denver:20200730T110000
DTEND;TZID=America/Denver:20200730T140000
DTSTAMP:20260420T163922
CREATED:20191011T004300Z
LAST-MODIFIED:20191011T004524Z
UID:2401-1596106800-1596117600@foolsendclub.com
SUMMARY:Thursday Night Dinner
DESCRIPTION:Tonight’s Dinner Host:\nTonight’s Menu:  \nJoin us for our weekly gathering and dinner\, courtesy our own members. Each week a different member will supply a fine meal while we converse\, watch football\, and enjoy cigars and drinks.
URL:https://foolsendclub.com/event/thursday-night-dinner-2020-07-30/
LOCATION:Fools’ End Club\, 631 Woody St.\, Missoula\, MT\, 59802\, United States
END:VEVENT
BEGIN:VEVENT
DTSTART;TZID=America/Denver:20200723T110000
DTEND;TZID=America/Denver:20200723T140000
DTSTAMP:20260420T163922
CREATED:20191011T004300Z
LAST-MODIFIED:20191011T004524Z
UID:2400-1595502000-1595512800@foolsendclub.com
SUMMARY:Thursday Night Dinner
DESCRIPTION:Tonight’s Dinner Host:\nTonight’s Menu:  \nJoin us for our weekly gathering and dinner\, courtesy our own members. Each week a different member will supply a fine meal while we converse\, watch football\, and enjoy cigars and drinks.
URL:https://foolsendclub.com/event/thursday-night-dinner-2020-07-23/
LOCATION:Fools’ End Club\, 631 Woody St.\, Missoula\, MT\, 59802\, United States
END:VEVENT
BEGIN:VEVENT
DTSTART;TZID=America/Denver:20200716T110000
DTEND;TZID=America/Denver:20200716T140000
DTSTAMP:20260420T163922
CREATED:20191011T004300Z
LAST-MODIFIED:20191011T004524Z
UID:2399-1594897200-1594908000@foolsendclub.com
SUMMARY:Thursday Night Dinner
DESCRIPTION:Tonight’s Dinner Host:\nTonight’s Menu:  \nJoin us for our weekly gathering and dinner\, courtesy our own members. Each week a different member will supply a fine meal while we converse\, watch football\, and enjoy cigars and drinks.
URL:https://foolsendclub.com/event/thursday-night-dinner-2020-07-16/
LOCATION:Fools’ End Club\, 631 Woody St.\, Missoula\, MT\, 59802\, United States
END:VEVENT
BEGIN:VEVENT
DTSTART;TZID=America/Denver:20200709T110000
DTEND;TZID=America/Denver:20200709T140000
DTSTAMP:20260420T163922
CREATED:20191011T004300Z
LAST-MODIFIED:20191011T004523Z
UID:2398-1594292400-1594303200@foolsendclub.com
SUMMARY:Thursday Night Dinner
DESCRIPTION:Tonight’s Dinner Host:\nTonight’s Menu:  \nJoin us for our weekly gathering and dinner\, courtesy our own members. Each week a different member will supply a fine meal while we converse\, watch football\, and enjoy cigars and drinks.
URL:https://foolsendclub.com/event/thursday-night-dinner-2020-07-09/
LOCATION:Fools’ End Club\, 631 Woody St.\, Missoula\, MT\, 59802\, United States
END:VEVENT
BEGIN:VEVENT
DTSTART;TZID=America/Denver:20200702T110000
DTEND;TZID=America/Denver:20200702T140000
DTSTAMP:20260420T163922
CREATED:20191011T004300Z
LAST-MODIFIED:20191011T004523Z
UID:2397-1593687600-1593698400@foolsendclub.com
SUMMARY:Thursday Night Dinner
DESCRIPTION:Tonight’s Dinner Host:\nTonight’s Menu:  \nJoin us for our weekly gathering and dinner\, courtesy our own members. Each week a different member will supply a fine meal while we converse\, watch football\, and enjoy cigars and drinks.
URL:https://foolsendclub.com/event/thursday-night-dinner-2020-07-02/
LOCATION:Fools’ End Club\, 631 Woody St.\, Missoula\, MT\, 59802\, United States
END:VEVENT
BEGIN:VEVENT
DTSTART;TZID=America/Denver:20200625T110000
DTEND;TZID=America/Denver:20200625T140000
DTSTAMP:20260420T163922
CREATED:20191011T004300Z
LAST-MODIFIED:20191011T004523Z
UID:2396-1593082800-1593093600@foolsendclub.com
SUMMARY:Thursday Night Dinner
DESCRIPTION:Tonight’s Dinner Host:\nTonight’s Menu:  \nJoin us for our weekly gathering and dinner\, courtesy our own members. Each week a different member will supply a fine meal while we converse\, watch football\, and enjoy cigars and drinks.
URL:https://foolsendclub.com/event/thursday-night-dinner-2020-06-25/
LOCATION:Fools’ End Club\, 631 Woody St.\, Missoula\, MT\, 59802\, United States
END:VEVENT
BEGIN:VEVENT
DTSTART;TZID=America/Denver:20200618T110000
DTEND;TZID=America/Denver:20200618T140000
DTSTAMP:20260420T163922
CREATED:20191011T004300Z
LAST-MODIFIED:20191011T004523Z
UID:2395-1592478000-1592488800@foolsendclub.com
SUMMARY:Thursday Night Dinner
DESCRIPTION:Tonight’s Dinner Host:\nTonight’s Menu:  \nJoin us for our weekly gathering and dinner\, courtesy our own members. Each week a different member will supply a fine meal while we converse\, watch football\, and enjoy cigars and drinks.
URL:https://foolsendclub.com/event/thursday-night-dinner-2020-06-18/
LOCATION:Fools’ End Club\, 631 Woody St.\, Missoula\, MT\, 59802\, United States
END:VEVENT
BEGIN:VEVENT
DTSTART;TZID=America/Denver:20200611T110000
DTEND;TZID=America/Denver:20200611T140000
DTSTAMP:20260420T163922
CREATED:20191011T004300Z
LAST-MODIFIED:20191011T004523Z
UID:2394-1591873200-1591884000@foolsendclub.com
SUMMARY:Thursday Night Dinner
DESCRIPTION:Tonight’s Dinner Host:\nTonight’s Menu:  \nJoin us for our weekly gathering and dinner\, courtesy our own members. Each week a different member will supply a fine meal while we converse\, watch football\, and enjoy cigars and drinks.
URL:https://foolsendclub.com/event/thursday-night-dinner-2020-06-11/
LOCATION:Fools’ End Club\, 631 Woody St.\, Missoula\, MT\, 59802\, United States
END:VEVENT
BEGIN:VEVENT
DTSTART;TZID=America/Denver:20200604T110000
DTEND;TZID=America/Denver:20200604T140000
DTSTAMP:20260420T163922
CREATED:20191011T004300Z
LAST-MODIFIED:20191011T004523Z
UID:2393-1591268400-1591279200@foolsendclub.com
SUMMARY:Thursday Night Dinner
DESCRIPTION:Tonight’s Dinner Host:\nTonight’s Menu:  \nJoin us for our weekly gathering and dinner\, courtesy our own members. Each week a different member will supply a fine meal while we converse\, watch football\, and enjoy cigars and drinks.
URL:https://foolsendclub.com/event/thursday-night-dinner-2020-06-04/
LOCATION:Fools’ End Club\, 631 Woody St.\, Missoula\, MT\, 59802\, United States
END:VEVENT
BEGIN:VEVENT
DTSTART;TZID=America/Denver:20200528T110000
DTEND;TZID=America/Denver:20200528T140000
DTSTAMP:20260420T163922
CREATED:20191011T004300Z
LAST-MODIFIED:20191011T004523Z
UID:2392-1590663600-1590674400@foolsendclub.com
SUMMARY:Thursday Night Dinner
DESCRIPTION:Tonight’s Dinner Host:\nTonight’s Menu:  \nJoin us for our weekly gathering and dinner\, courtesy our own members. Each week a different member will supply a fine meal while we converse\, watch football\, and enjoy cigars and drinks.
URL:https://foolsendclub.com/event/thursday-night-dinner-2020-05-28/
LOCATION:Fools’ End Club\, 631 Woody St.\, Missoula\, MT\, 59802\, United States
END:VEVENT
BEGIN:VEVENT
DTSTART;TZID=America/Denver:20200521T110000
DTEND;TZID=America/Denver:20200521T140000
DTSTAMP:20260420T163922
CREATED:20191011T004300Z
LAST-MODIFIED:20191011T004522Z
UID:2391-1590058800-1590069600@foolsendclub.com
SUMMARY:Thursday Night Dinner
DESCRIPTION:Tonight’s Dinner Host:\nTonight’s Menu:  \nJoin us for our weekly gathering and dinner\, courtesy our own members. Each week a different member will supply a fine meal while we converse\, watch football\, and enjoy cigars and drinks.
URL:https://foolsendclub.com/event/thursday-night-dinner-2020-05-21/
LOCATION:Fools’ End Club\, 631 Woody St.\, Missoula\, MT\, 59802\, United States
END:VEVENT
BEGIN:VEVENT
DTSTART;TZID=America/Denver:20200514T110000
DTEND;TZID=America/Denver:20200514T140000
DTSTAMP:20260420T163922
CREATED:20191011T004300Z
LAST-MODIFIED:20191011T004522Z
UID:2390-1589454000-1589464800@foolsendclub.com
SUMMARY:Thursday Night Dinner
DESCRIPTION:Tonight’s Dinner Host:\nTonight’s Menu:  \nJoin us for our weekly gathering and dinner\, courtesy our own members. Each week a different member will supply a fine meal while we converse\, watch football\, and enjoy cigars and drinks.
URL:https://foolsendclub.com/event/thursday-night-dinner-2020-05-14/
LOCATION:Fools’ End Club\, 631 Woody St.\, Missoula\, MT\, 59802\, United States
END:VEVENT
BEGIN:VEVENT
DTSTART;TZID=America/Denver:20200507T110000
DTEND;TZID=America/Denver:20200507T140000
DTSTAMP:20260420T163922
CREATED:20191011T004300Z
LAST-MODIFIED:20191011T004522Z
UID:2389-1588849200-1588860000@foolsendclub.com
SUMMARY:Thursday Night Dinner
DESCRIPTION:Tonight’s Dinner Host:\nTonight’s Menu:  \nJoin us for our weekly gathering and dinner\, courtesy our own members. Each week a different member will supply a fine meal while we converse\, watch football\, and enjoy cigars and drinks.
URL:https://foolsendclub.com/event/thursday-night-dinner-2020-05-07/
LOCATION:Fools’ End Club\, 631 Woody St.\, Missoula\, MT\, 59802\, United States
END:VEVENT
BEGIN:VEVENT
DTSTART;TZID=America/Denver:20200430T110000
DTEND;TZID=America/Denver:20200430T140000
DTSTAMP:20260420T163922
CREATED:20191011T004300Z
LAST-MODIFIED:20191011T004522Z
UID:2388-1588244400-1588255200@foolsendclub.com
SUMMARY:Thursday Night Dinner
DESCRIPTION:Tonight’s Dinner Host:\nTonight’s Menu:  \nJoin us for our weekly gathering and dinner\, courtesy our own members. Each week a different member will supply a fine meal while we converse\, watch football\, and enjoy cigars and drinks.
URL:https://foolsendclub.com/event/thursday-night-dinner-2020-04-30/
LOCATION:Fools’ End Club\, 631 Woody St.\, Missoula\, MT\, 59802\, United States
END:VEVENT
BEGIN:VEVENT
DTSTART;TZID=America/Denver:20200423T110000
DTEND;TZID=America/Denver:20200423T140000
DTSTAMP:20260420T163922
CREATED:20191011T004300Z
LAST-MODIFIED:20191011T004522Z
UID:2387-1587639600-1587650400@foolsendclub.com
SUMMARY:Thursday Night Dinner
DESCRIPTION:Tonight’s Dinner Host:\nTonight’s Menu:  \nJoin us for our weekly gathering and dinner\, courtesy our own members. Each week a different member will supply a fine meal while we converse\, watch football\, and enjoy cigars and drinks.
URL:https://foolsendclub.com/event/thursday-night-dinner-2020-04-23/
LOCATION:Fools’ End Club\, 631 Woody St.\, Missoula\, MT\, 59802\, United States
END:VEVENT
BEGIN:VEVENT
DTSTART;TZID=America/Denver:20200416T110000
DTEND;TZID=America/Denver:20200416T140000
DTSTAMP:20260420T163922
CREATED:20191011T004300Z
LAST-MODIFIED:20191011T004521Z
UID:2386-1587034800-1587045600@foolsendclub.com
SUMMARY:Thursday Night Dinner
DESCRIPTION:Tonight’s Dinner Host:\nTonight’s Menu:  \nJoin us for our weekly gathering and dinner\, courtesy our own members. Each week a different member will supply a fine meal while we converse\, watch football\, and enjoy cigars and drinks.
URL:https://foolsendclub.com/event/thursday-night-dinner-2020-04-16/
LOCATION:Fools’ End Club\, 631 Woody St.\, Missoula\, MT\, 59802\, United States
END:VEVENT
BEGIN:VEVENT
DTSTART;TZID=America/Denver:20200409T110000
DTEND;TZID=America/Denver:20200409T140000
DTSTAMP:20260420T163922
CREATED:20191011T004300Z
LAST-MODIFIED:20191011T004521Z
UID:2385-1586430000-1586440800@foolsendclub.com
SUMMARY:Thursday Night Dinner
DESCRIPTION:Tonight’s Dinner Host:\nTonight’s Menu:  \nJoin us for our weekly gathering and dinner\, courtesy our own members. Each week a different member will supply a fine meal while we converse\, watch football\, and enjoy cigars and drinks.
URL:https://foolsendclub.com/event/thursday-night-dinner-2020-04-09/
LOCATION:Fools’ End Club\, 631 Woody St.\, Missoula\, MT\, 59802\, United States
END:VEVENT
BEGIN:VEVENT
DTSTART;TZID=America/Denver:20200402T110000
DTEND;TZID=America/Denver:20200402T140000
DTSTAMP:20260420T163922
CREATED:20191011T004300Z
LAST-MODIFIED:20191011T004521Z
UID:2384-1585825200-1585836000@foolsendclub.com
SUMMARY:Thursday Night Dinner
DESCRIPTION:Tonight’s Dinner Host:\nTonight’s Menu:  \nJoin us for our weekly gathering and dinner\, courtesy our own members. Each week a different member will supply a fine meal while we converse\, watch football\, and enjoy cigars and drinks.
URL:https://foolsendclub.com/event/thursday-night-dinner-2020-04-02/
LOCATION:Fools’ End Club\, 631 Woody St.\, Missoula\, MT\, 59802\, United States
END:VEVENT
BEGIN:VEVENT
DTSTART;TZID=America/Denver:20200326T110000
DTEND;TZID=America/Denver:20200326T140000
DTSTAMP:20260420T163922
CREATED:20191011T004300Z
LAST-MODIFIED:20191011T004521Z
UID:2383-1585220400-1585231200@foolsendclub.com
SUMMARY:Thursday Night Dinner
DESCRIPTION:Tonight’s Dinner Host:\nTonight’s Menu:  \nJoin us for our weekly gathering and dinner\, courtesy our own members. Each week a different member will supply a fine meal while we converse\, watch football\, and enjoy cigars and drinks.
URL:https://foolsendclub.com/event/thursday-night-dinner-2020-03-26/
LOCATION:Fools’ End Club\, 631 Woody St.\, Missoula\, MT\, 59802\, United States
END:VEVENT
BEGIN:VEVENT
DTSTART;TZID=America/Denver:20200319T110000
DTEND;TZID=America/Denver:20200319T140000
DTSTAMP:20260420T163922
CREATED:20191011T004300Z
LAST-MODIFIED:20191011T004521Z
UID:2382-1584615600-1584626400@foolsendclub.com
SUMMARY:Thursday Night Dinner
DESCRIPTION:Tonight’s Dinner Host:\nTonight’s Menu:  \nJoin us for our weekly gathering and dinner\, courtesy our own members. Each week a different member will supply a fine meal while we converse\, watch football\, and enjoy cigars and drinks.
URL:https://foolsendclub.com/event/thursday-night-dinner-2020-03-19/
LOCATION:Fools’ End Club\, 631 Woody St.\, Missoula\, MT\, 59802\, United States
END:VEVENT
END:VCALENDAR