BEGIN:VCALENDAR
VERSION:2.0
PRODID:-//Fools' End Club | Private Cigar Club in Missoula, Montana - ECPv6.15.20//NONSGML v1.0//EN
CALSCALE:GREGORIAN
METHOD:PUBLISH
X-WR-CALNAME:Fools' End Club | Private Cigar Club in Missoula, Montana
X-ORIGINAL-URL:https://foolsendclub.com
X-WR-CALDESC:Events for Fools' End Club | Private Cigar Club in Missoula, Montana
REFRESH-INTERVAL;VALUE=DURATION:PT1H
X-Robots-Tag:noindex
X-PUBLISHED-TTL:PT1H
BEGIN:VTIMEZONE
TZID:America/Denver
BEGIN:DAYLIGHT
TZOFFSETFROM:-0700
TZOFFSETTO:-0600
TZNAME:MDT
DTSTART:20200308T090000
END:DAYLIGHT
BEGIN:STANDARD
TZOFFSETFROM:-0600
TZOFFSETTO:-0700
TZNAME:MST
DTSTART:20201101T080000
END:STANDARD
BEGIN:DAYLIGHT
TZOFFSETFROM:-0700
TZOFFSETTO:-0600
TZNAME:MDT
DTSTART:20210314T090000
END:DAYLIGHT
BEGIN:STANDARD
TZOFFSETFROM:-0600
TZOFFSETTO:-0700
TZNAME:MST
DTSTART:20211107T080000
END:STANDARD
BEGIN:DAYLIGHT
TZOFFSETFROM:-0700
TZOFFSETTO:-0600
TZNAME:MDT
DTSTART:20220313T090000
END:DAYLIGHT
BEGIN:STANDARD
TZOFFSETFROM:-0600
TZOFFSETTO:-0700
TZNAME:MST
DTSTART:20221106T080000
END:STANDARD
END:VTIMEZONE
BEGIN:VEVENT
DTSTART;TZID=America/Denver:20210819T090000
DTEND;TZID=America/Denver:20210819T140000
DTSTAMP:20260420T110031
CREATED:20210107T074046Z
LAST-MODIFIED:20210107T074046Z
UID:2693-1629363600-1629381600@foolsendclub.com
SUMMARY:Thursday Night Dinner
DESCRIPTION:Join us every Thursday for a rotating hosted dinner provided by a club member. Interested in hosting a dinner\, reach out to Ken Wickman.
URL:https://foolsendclub.com/event/test-event-2021-08-19/
END:VEVENT
BEGIN:VEVENT
DTSTART;TZID=America/Denver:20210817T113000
DTEND;TZID=America/Denver:20210817T140000
DTSTAMP:20260420T110031
CREATED:20210817T021910Z
LAST-MODIFIED:20210817T023258Z
UID:2992-1629199800-1629208800@foolsendclub.com
SUMMARY:Jacob Elder: Meet & Greet
DESCRIPTION:Jacob Elder: Missoula Mayoral Candidate\nPresenting to the members of Fools’ End\nAugust 17\, 2021\n6:30 PM: Meet and greet\n7:30 Formal presentation with question & Answer\nLight snacks will be provided. \nThere is no requirement to contribute to attend.  \nMembers may contribute a maximum of $360 ($180 for the primary and $180 for the general election).
URL:https://foolsendclub.com/event/jacob-elder-meet-greet/
END:VEVENT
BEGIN:VEVENT
DTSTART;TZID=America/Denver:20210812T090000
DTEND;TZID=America/Denver:20210812T140000
DTSTAMP:20260420T110031
CREATED:20210107T074046Z
LAST-MODIFIED:20210107T074046Z
UID:2692-1628758800-1628776800@foolsendclub.com
SUMMARY:Thursday Night Dinner
DESCRIPTION:Join us every Thursday for a rotating hosted dinner provided by a club member. Interested in hosting a dinner\, reach out to Ken Wickman.
URL:https://foolsendclub.com/event/test-event-2021-08-12/
END:VEVENT
BEGIN:VEVENT
DTSTART;TZID=America/Denver:20210805T090000
DTEND;TZID=America/Denver:20210805T140000
DTSTAMP:20260420T110031
CREATED:20210107T074046Z
LAST-MODIFIED:20210107T074046Z
UID:2691-1628154000-1628172000@foolsendclub.com
SUMMARY:Thursday Night Dinner
DESCRIPTION:Join us every Thursday for a rotating hosted dinner provided by a club member. Interested in hosting a dinner\, reach out to Ken Wickman.
URL:https://foolsendclub.com/event/test-event-2021-08-05/
END:VEVENT
BEGIN:VEVENT
DTSTART;TZID=America/Denver:20210729T090000
DTEND;TZID=America/Denver:20210729T140000
DTSTAMP:20260420T110031
CREATED:20210107T074046Z
LAST-MODIFIED:20210107T074046Z
UID:2690-1627549200-1627567200@foolsendclub.com
SUMMARY:Thursday Night Dinner
DESCRIPTION:Join us every Thursday for a rotating hosted dinner provided by a club member. Interested in hosting a dinner\, reach out to Ken Wickman.
URL:https://foolsendclub.com/event/test-event-2021-07-29/
END:VEVENT
BEGIN:VEVENT
DTSTART;TZID=America/Denver:20210722T090000
DTEND;TZID=America/Denver:20210722T140000
DTSTAMP:20260420T110031
CREATED:20210107T074046Z
LAST-MODIFIED:20210107T074046Z
UID:2689-1626944400-1626962400@foolsendclub.com
SUMMARY:Thursday Night Dinner
DESCRIPTION:Join us every Thursday for a rotating hosted dinner provided by a club member. Interested in hosting a dinner\, reach out to Ken Wickman.
URL:https://foolsendclub.com/event/test-event-2021-07-22/
END:VEVENT
BEGIN:VEVENT
DTSTART;VALUE=DATE:20210716
DTEND;VALUE=DATE:20210718
DTSTAMP:20260420T110031
CREATED:20210317T223834Z
LAST-MODIFIED:20210317T223834Z
UID:2810-1626454800-1626541199@foolsendclub.com
SUMMARY:2nd Annual Fire in the Hole Cigar and Golf Event
DESCRIPTION:Join us for our second annual golf event and auction. This year we’ll be playing the links at Missoula Country Club. Follow along with event updates at http://cigarsonthewater.com/
URL:https://foolsendclub.com/event/2nd-annual-fire-in-the-hole-cigar-and-golf-event/
END:VEVENT
BEGIN:VEVENT
DTSTART;TZID=America/Denver:20210715T090000
DTEND;TZID=America/Denver:20210715T140000
DTSTAMP:20260420T110031
CREATED:20210107T074046Z
LAST-MODIFIED:20210107T074046Z
UID:2688-1626339600-1626357600@foolsendclub.com
SUMMARY:Thursday Night Dinner
DESCRIPTION:Join us every Thursday for a rotating hosted dinner provided by a club member. Interested in hosting a dinner\, reach out to Ken Wickman.
URL:https://foolsendclub.com/event/test-event-2021-07-15/
END:VEVENT
BEGIN:VEVENT
DTSTART;TZID=America/Denver:20210708T090000
DTEND;TZID=America/Denver:20210708T140000
DTSTAMP:20260420T110031
CREATED:20210107T074046Z
LAST-MODIFIED:20210107T074046Z
UID:2687-1625734800-1625752800@foolsendclub.com
SUMMARY:Thursday Night Dinner
DESCRIPTION:Join us every Thursday for a rotating hosted dinner provided by a club member. Interested in hosting a dinner\, reach out to Ken Wickman.
URL:https://foolsendclub.com/event/test-event-2021-07-08/
END:VEVENT
BEGIN:VEVENT
DTSTART;TZID=America/Denver:20210701T090000
DTEND;TZID=America/Denver:20210701T140000
DTSTAMP:20260420T110031
CREATED:20210107T074046Z
LAST-MODIFIED:20210107T074046Z
UID:2686-1625130000-1625148000@foolsendclub.com
SUMMARY:Thursday Night Dinner
DESCRIPTION:Join us every Thursday for a rotating hosted dinner provided by a club member. Interested in hosting a dinner\, reach out to Ken Wickman.
URL:https://foolsendclub.com/event/test-event-2021-07-01/
END:VEVENT
BEGIN:VEVENT
DTSTART;TZID=America/Denver:20210624T090000
DTEND;TZID=America/Denver:20210624T140000
DTSTAMP:20260420T110031
CREATED:20210107T074046Z
LAST-MODIFIED:20210107T074046Z
UID:2685-1624525200-1624543200@foolsendclub.com
SUMMARY:Thursday Night Dinner
DESCRIPTION:Join us every Thursday for a rotating hosted dinner provided by a club member. Interested in hosting a dinner\, reach out to Ken Wickman.
URL:https://foolsendclub.com/event/test-event-2021-06-24/
END:VEVENT
BEGIN:VEVENT
DTSTART;TZID=America/Denver:20210617T090000
DTEND;TZID=America/Denver:20210617T140000
DTSTAMP:20260420T110031
CREATED:20210107T074046Z
LAST-MODIFIED:20210107T074046Z
UID:2684-1623920400-1623938400@foolsendclub.com
SUMMARY:Thursday Night Dinner
DESCRIPTION:Join us every Thursday for a rotating hosted dinner provided by a club member. Interested in hosting a dinner\, reach out to Ken Wickman.
URL:https://foolsendclub.com/event/test-event-2021-06-17/
END:VEVENT
BEGIN:VEVENT
DTSTART;TZID=America/Denver:20210610T090000
DTEND;TZID=America/Denver:20210610T140000
DTSTAMP:20260420T110031
CREATED:20210107T074046Z
LAST-MODIFIED:20210107T074046Z
UID:2683-1623315600-1623333600@foolsendclub.com
SUMMARY:Thursday Night Dinner
DESCRIPTION:Join us every Thursday for a rotating hosted dinner provided by a club member. Interested in hosting a dinner\, reach out to Ken Wickman.
URL:https://foolsendclub.com/event/test-event-2021-06-10/
END:VEVENT
BEGIN:VEVENT
DTSTART;TZID=America/Denver:20210603T090000
DTEND;TZID=America/Denver:20210603T140000
DTSTAMP:20260420T110031
CREATED:20210107T074046Z
LAST-MODIFIED:20210107T074046Z
UID:2682-1622710800-1622728800@foolsendclub.com
SUMMARY:Thursday Night Dinner
DESCRIPTION:Join us every Thursday for a rotating hosted dinner provided by a club member. Interested in hosting a dinner\, reach out to Ken Wickman.
URL:https://foolsendclub.com/event/test-event-2021-06-03/
END:VEVENT
BEGIN:VEVENT
DTSTART;TZID=America/Denver:20210527T090000
DTEND;TZID=America/Denver:20210527T140000
DTSTAMP:20260420T110031
CREATED:20210107T074046Z
LAST-MODIFIED:20210107T074046Z
UID:2681-1622106000-1622124000@foolsendclub.com
SUMMARY:Thursday Night Dinner
DESCRIPTION:Join us every Thursday for a rotating hosted dinner provided by a club member. Interested in hosting a dinner\, reach out to Ken Wickman.
URL:https://foolsendclub.com/event/test-event-2021-05-27/
END:VEVENT
BEGIN:VEVENT
DTSTART;TZID=America/Denver:20210520T090000
DTEND;TZID=America/Denver:20210520T140000
DTSTAMP:20260420T110031
CREATED:20210107T074046Z
LAST-MODIFIED:20210107T074046Z
UID:2680-1621501200-1621519200@foolsendclub.com
SUMMARY:Thursday Night Dinner
DESCRIPTION:Join us every Thursday for a rotating hosted dinner provided by a club member. Interested in hosting a dinner\, reach out to Ken Wickman.
URL:https://foolsendclub.com/event/test-event-2021-05-20/
END:VEVENT
BEGIN:VEVENT
DTSTART;TZID=America/Denver:20210513T090000
DTEND;TZID=America/Denver:20210513T140000
DTSTAMP:20260420T110031
CREATED:20210107T074046Z
LAST-MODIFIED:20210107T074046Z
UID:2679-1620896400-1620914400@foolsendclub.com
SUMMARY:Thursday Night Dinner
DESCRIPTION:Join us every Thursday for a rotating hosted dinner provided by a club member. Interested in hosting a dinner\, reach out to Ken Wickman.
URL:https://foolsendclub.com/event/test-event-2021-05-13/
END:VEVENT
BEGIN:VEVENT
DTSTART;TZID=America/Denver:20210506T090000
DTEND;TZID=America/Denver:20210506T140000
DTSTAMP:20260420T110031
CREATED:20210107T074046Z
LAST-MODIFIED:20210107T074046Z
UID:2678-1620291600-1620309600@foolsendclub.com
SUMMARY:Thursday Night Dinner
DESCRIPTION:Join us every Thursday for a rotating hosted dinner provided by a club member. Interested in hosting a dinner\, reach out to Ken Wickman.
URL:https://foolsendclub.com/event/test-event-2021-05-06/
END:VEVENT
BEGIN:VEVENT
DTSTART;TZID=America/Denver:20210501T060000
DTEND;TZID=America/Denver:20210501T140000
DTSTAMP:20260420T110031
CREATED:20210327T053706Z
LAST-MODIFIED:20210327T053706Z
UID:2839-1619848800-1619877600@foolsendclub.com
SUMMARY:Kentucky Derby Day with Bike & Car Show
DESCRIPTION:We’re back on May 1\, 2021 with another year of Kentucky Derby celebrations and camaraderie at the Fools’ End Cigar Club! This is an event not to be missed. \nFestivities begin at 1:00 PM and run throughout the rest of the day. \nSouthern breakfast including ham\, biscuits\, fig chutney\, grits\, and other true to Derby food. \nDerby dress encouraged! \nNew this year\, cars and motorcycles of interest to be parked along Woody Street for an inaugural Car and Motorcycle Show. \nPost time for the derby 4:30 PM.
URL:https://foolsendclub.com/event/kentucky-derby-day-with-bike-car-show/
END:VEVENT
BEGIN:VEVENT
DTSTART;VALUE=DATE:20210430
DTEND;VALUE=DATE:20210502
DTSTAMP:20260420T110031
CREATED:20210303T063045Z
LAST-MODIFIED:20210303T063045Z
UID:2773-1619802000-1619888399@foolsendclub.com
SUMMARY:Kentucky Derby
DESCRIPTION:Join us for Kentucky Derby festivities.
URL:https://foolsendclub.com/event/kentucky-derby/
END:VEVENT
BEGIN:VEVENT
DTSTART;TZID=America/Denver:20210429T090000
DTEND;TZID=America/Denver:20210429T140000
DTSTAMP:20260420T110031
CREATED:20210107T074046Z
LAST-MODIFIED:20210107T074046Z
UID:2677-1619686800-1619704800@foolsendclub.com
SUMMARY:Thursday Night Dinner
DESCRIPTION:Join us every Thursday for a rotating hosted dinner provided by a club member. Interested in hosting a dinner\, reach out to Ken Wickman.
URL:https://foolsendclub.com/event/test-event-2021-04-29/
END:VEVENT
BEGIN:VEVENT
DTSTART;TZID=America/Denver:20210422T090000
DTEND;TZID=America/Denver:20210422T140000
DTSTAMP:20260420T110031
CREATED:20210107T074046Z
LAST-MODIFIED:20210107T074046Z
UID:2676-1619082000-1619100000@foolsendclub.com
SUMMARY:Thursday Night Dinner
DESCRIPTION:Join us every Thursday for a rotating hosted dinner provided by a club member. Interested in hosting a dinner\, reach out to Ken Wickman.
URL:https://foolsendclub.com/event/test-event-2021-04-22/
END:VEVENT
BEGIN:VEVENT
DTSTART;TZID=America/Denver:20210417T033000
DTEND;TZID=America/Denver:20210417T050000
DTSTAMP:20260420T110031
CREATED:20210320T233944Z
LAST-MODIFIED:20210323T080718Z
UID:2815-1618630200-1618635600@foolsendclub.com
SUMMARY:Griz Watch Party & Brunch
DESCRIPTION:Join us for a Griz recruitment watch party and Pancake\, Egg & Sausage Brunch. $10 cover for brunch. Game starts at 11:00 AM.
URL:https://foolsendclub.com/event/egg-sausage-brunch/
END:VEVENT
BEGIN:VEVENT
DTSTART;TZID=America/Denver:20210415T090000
DTEND;TZID=America/Denver:20210415T140000
DTSTAMP:20260420T110031
CREATED:20210107T074046Z
LAST-MODIFIED:20210107T074046Z
UID:2675-1618477200-1618495200@foolsendclub.com
SUMMARY:Thursday Night Dinner
DESCRIPTION:Join us every Thursday for a rotating hosted dinner provided by a club member. Interested in hosting a dinner\, reach out to Ken Wickman.
URL:https://foolsendclub.com/event/test-event-2021-04-15/
END:VEVENT
BEGIN:VEVENT
DTSTART;TZID=America/Denver:20210413T123000
DTEND;TZID=America/Denver:20210413T163000
DTSTAMP:20260420T110031
CREATED:20210316T235202Z
LAST-MODIFIED:20210316T235202Z
UID:2801-1618317000-1618331400@foolsendclub.com
SUMMARY:Club Closed
DESCRIPTION:The club will be closed from 7:30 PM through the evening for a scheduled BSA National Event.
URL:https://foolsendclub.com/event/club-closed/
END:VEVENT
BEGIN:VEVENT
DTSTART;TZID=America/Denver:20210410T033000
DTEND;TZID=America/Denver:20210410T070000
DTSTAMP:20260420T110031
CREATED:20210320T233908Z
LAST-MODIFIED:20210323T080812Z
UID:2813-1618025400-1618038000@foolsendclub.com
SUMMARY:Griz Football Watch Party & Brunch
DESCRIPTION:Join us for a Griz recruitment watch party and Pancake\, Egg & Sausage Brunch. $10 cover for brunch. Game starts at 11:00 AM.
URL:https://foolsendclub.com/event/griz-football-watch-party/
END:VEVENT
BEGIN:VEVENT
DTSTART;TZID=America/Denver:20210408T090000
DTEND;TZID=America/Denver:20210408T140000
DTSTAMP:20260420T110031
CREATED:20210107T074046Z
LAST-MODIFIED:20210107T074046Z
UID:2674-1617872400-1617890400@foolsendclub.com
SUMMARY:Thursday Night Dinner
DESCRIPTION:Join us every Thursday for a rotating hosted dinner provided by a club member. Interested in hosting a dinner\, reach out to Ken Wickman.
URL:https://foolsendclub.com/event/test-event-2021-04-08/
END:VEVENT
BEGIN:VEVENT
DTSTART;TZID=America/Denver:20210401T090000
DTEND;TZID=America/Denver:20210401T140000
DTSTAMP:20260420T110031
CREATED:20210107T074046Z
LAST-MODIFIED:20210107T074046Z
UID:2673-1617267600-1617285600@foolsendclub.com
SUMMARY:Thursday Night Dinner
DESCRIPTION:Join us every Thursday for a rotating hosted dinner provided by a club member. Interested in hosting a dinner\, reach out to Ken Wickman.
URL:https://foolsendclub.com/event/test-event-2021-04-01/
END:VEVENT
BEGIN:VEVENT
DTSTART;VALUE=DATE:20210328
DTEND;VALUE=DATE:20210330
DTSTAMP:20260420T110031
CREATED:20210224T060943Z
LAST-MODIFIED:20210307T000715Z
UID:2756-1616950800-1617037199@foolsendclub.com
SUMMARY:CLUB CLOSED FOR AIR INSTALLATION
DESCRIPTION:Club will be closed all day for air installation. Watch for announcement of reopening.
URL:https://foolsendclub.com/event/club-closed-for-air-installation/
END:VEVENT
BEGIN:VEVENT
DTSTART;TZID=America/Denver:20210325T090000
DTEND;TZID=America/Denver:20210325T140000
DTSTAMP:20260420T110031
CREATED:20210107T074046Z
LAST-MODIFIED:20210107T074046Z
UID:2672-1616662800-1616680800@foolsendclub.com
SUMMARY:Thursday Night Dinner
DESCRIPTION:Join us every Thursday for a rotating hosted dinner provided by a club member. Interested in hosting a dinner\, reach out to Ken Wickman.
URL:https://foolsendclub.com/event/test-event-2021-03-25/
END:VEVENT
END:VCALENDAR