BEGIN:VCALENDAR
VERSION:2.0
PRODID:-//Fools' End Club | Private Cigar Club in Missoula, Montana - ECPv6.15.20//NONSGML v1.0//EN
CALSCALE:GREGORIAN
METHOD:PUBLISH
X-ORIGINAL-URL:https://foolsendclub.com
X-WR-CALDESC:Events for Fools' End Club | Private Cigar Club in Missoula, Montana
REFRESH-INTERVAL;VALUE=DURATION:PT1H
X-Robots-Tag:noindex
X-PUBLISHED-TTL:PT1H
BEGIN:VTIMEZONE
TZID:America/Denver
BEGIN:DAYLIGHT
TZOFFSETFROM:-0700
TZOFFSETTO:-0600
TZNAME:MDT
DTSTART:20200308T090000
END:DAYLIGHT
BEGIN:STANDARD
TZOFFSETFROM:-0600
TZOFFSETTO:-0700
TZNAME:MST
DTSTART:20201101T080000
END:STANDARD
BEGIN:DAYLIGHT
TZOFFSETFROM:-0700
TZOFFSETTO:-0600
TZNAME:MDT
DTSTART:20210314T090000
END:DAYLIGHT
BEGIN:STANDARD
TZOFFSETFROM:-0600
TZOFFSETTO:-0700
TZNAME:MST
DTSTART:20211107T080000
END:STANDARD
BEGIN:DAYLIGHT
TZOFFSETFROM:-0700
TZOFFSETTO:-0600
TZNAME:MDT
DTSTART:20220313T090000
END:DAYLIGHT
BEGIN:STANDARD
TZOFFSETFROM:-0600
TZOFFSETTO:-0700
TZNAME:MST
DTSTART:20221106T080000
END:STANDARD
END:VTIMEZONE
BEGIN:VEVENT
DTSTART;TZID=America/Denver:20211017T040000
DTEND;TZID=America/Denver:20211017T070000
DTSTAMP:20260420T065929
CREATED:20210924T000001Z
LAST-MODIFIED:20210924T000001Z
UID:3098-1634443200-1634454000@foolsendclub.com
SUMMARY:Packers vs Bears / Chiefs vs Washington
DESCRIPTION:These will be the two games shown at this time\, one on each TV.
URL:https://foolsendclub.com/event/packers-vs-bears-chiefs-vs-washington/
END:VEVENT
BEGIN:VEVENT
DTSTART;TZID=America/Denver:20211016T060000
DTEND;TZID=America/Denver:20211016T090000
DTSTAMP:20260420T065929
CREATED:20210902T093033Z
LAST-MODIFIED:20210902T093033Z
UID:3038-1634364000-1634374800@foolsendclub.com
SUMMARY:Sacramento State @ Griz
DESCRIPTION:ABC/FOX MT*^
URL:https://foolsendclub.com/event/sacramento-state-griz/
END:VEVENT
BEGIN:VEVENT
DTSTART;TZID=America/Denver:20211014T090000
DTEND;TZID=America/Denver:20211014T140000
DTSTAMP:20260420T065929
CREATED:20210107T074046Z
LAST-MODIFIED:20210107T074046Z
UID:2701-1634202000-1634220000@foolsendclub.com
SUMMARY:Thursday Night Dinner
DESCRIPTION:Join us every Thursday for a rotating hosted dinner provided by a club member. Interested in hosting a dinner\, reach out to Ken Wickman.
URL:https://foolsendclub.com/event/test-event-2021-10-14/
END:VEVENT
BEGIN:VEVENT
DTSTART;TZID=America/Denver:20211012T113000
DTEND;TZID=America/Denver:20211012T133000
DTSTAMP:20260420T065929
CREATED:20210903T021715Z
LAST-MODIFIED:20210903T021715Z
UID:3050-1634038200-1634045400@foolsendclub.com
SUMMARY:Bayern Brewing Tasting Event
DESCRIPTION:Join us for a beer seminar and tasting by Juergen Knoeller\, owner of Bayern Brewery. \nBayern is the oldest operating microbrewery in Montana having started in 1986. \nJuergen will talk about the brewery’s history as well as discuss the history and divergence of brewing styles. Bayern will provide several different beers for tasting.
URL:https://foolsendclub.com/event/bayern-brewing-tasting-event/
END:VEVENT
BEGIN:VEVENT
DTSTART;TZID=America/Denver:20211010T113000
DTEND;TZID=America/Denver:20211010T143000
DTSTAMP:20260420T065929
CREATED:20210923T235915Z
LAST-MODIFIED:20210923T235915Z
UID:3096-1633865400-1633876200@foolsendclub.com
SUMMARY:Bills vs Chiefs
DESCRIPTION:
URL:https://foolsendclub.com/event/bills-vs-chiefs/
END:VEVENT
BEGIN:VEVENT
DTSTART;TZID=America/Denver:20211010T072500
DTEND;TZID=America/Denver:20211010T102400
DTSTAMP:20260420T065929
CREATED:20210923T235848Z
LAST-MODIFIED:20210923T235848Z
UID:3094-1633850700-1633861440@foolsendclub.com
SUMMARY:Bears vs Raiders (2:05) / Cardinals vs 49ers
DESCRIPTION:These will be the two games shown at this time\, one on each TV.
URL:https://foolsendclub.com/event/bears-vs-raiders-205-cardinals-vs-49ers/
END:VEVENT
BEGIN:VEVENT
DTSTART;TZID=America/Denver:20211010T040000
DTEND;TZID=America/Denver:20211010T070000
DTSTAMP:20260420T065929
CREATED:20210923T235756Z
LAST-MODIFIED:20210923T235756Z
UID:3092-1633838400-1633849200@foolsendclub.com
SUMMARY:Patriots vs Texans / Packers vs Bengals
DESCRIPTION:These will be the two games shown at this time\, one on each TV.
URL:https://foolsendclub.com/event/patriots-vs-texans-packers-vs-bengals/
END:VEVENT
BEGIN:VEVENT
DTSTART;TZID=America/Denver:20211009T060000
DTEND;TZID=America/Denver:20211009T090000
DTSTAMP:20260420T065929
CREATED:20210902T092943Z
LAST-MODIFIED:20210902T092943Z
UID:3036-1633759200-1633770000@foolsendclub.com
SUMMARY:Dixie State @ Griz
DESCRIPTION:ABC/FOX MT*^
URL:https://foolsendclub.com/event/dixie-state-griz/
END:VEVENT
BEGIN:VEVENT
DTSTART;TZID=America/Denver:20211009T050000
DTEND;TZID=America/Denver:20211009T090000
DTSTAMP:20260420T065929
CREATED:20211009T093218Z
LAST-MODIFIED:20211009T093218Z
UID:3104-1633755600-1633770000@foolsendclub.com
SUMMARY:UFC Fight Night: Dern vs. Rodriguez
DESCRIPTION:UFC Fight Night: Dern vs. Rodriguez\nOctober 9\, 2021\nUFC APEX\, Las Vegas\, NV \nMain Card\nESPN+2:00 PM \nPrelims\nESPN+12:00 PM
URL:https://foolsendclub.com/event/ufc-fight-night-dern-vs-rodriguez/
END:VEVENT
BEGIN:VEVENT
DTSTART;TZID=America/Denver:20211007T090000
DTEND;TZID=America/Denver:20211007T140000
DTSTAMP:20260420T065929
CREATED:20210107T074046Z
LAST-MODIFIED:20210107T074046Z
UID:2700-1633597200-1633615200@foolsendclub.com
SUMMARY:Thursday Night Dinner
DESCRIPTION:Join us every Thursday for a rotating hosted dinner provided by a club member. Interested in hosting a dinner\, reach out to Ken Wickman.
URL:https://foolsendclub.com/event/test-event-2021-10-07/
END:VEVENT
BEGIN:VEVENT
DTSTART;TZID=America/Denver:20211003T113000
DTEND;TZID=America/Denver:20211003T143000
DTSTAMP:20260420T065929
CREATED:20210923T235647Z
LAST-MODIFIED:20210923T235647Z
UID:3090-1633260600-1633271400@foolsendclub.com
SUMMARY:Patriots vs Buccaneers
DESCRIPTION:
URL:https://foolsendclub.com/event/patriots-vs-buccaneers/
END:VEVENT
BEGIN:VEVENT
DTSTART;TZID=America/Denver:20211003T072500
DTEND;TZID=America/Denver:20211003T102500
DTSTAMP:20260420T065929
CREATED:20210923T235620Z
LAST-MODIFIED:20210923T235620Z
UID:3088-1633245900-1633256700@foolsendclub.com
SUMMARY:Seahawks vs 49ers / Steelers vs Packers
DESCRIPTION:These will be the two games shown at this time\, one on each TV.
URL:https://foolsendclub.com/event/seahawks-vs-49ers-steelers-vs-packers/
END:VEVENT
BEGIN:VEVENT
DTSTART;TZID=America/Denver:20211003T040000
DTEND;TZID=America/Denver:20211003T070000
DTSTAMP:20260420T065929
CREATED:20210923T235529Z
LAST-MODIFIED:20210923T235529Z
UID:3086-1633233600-1633244400@foolsendclub.com
SUMMARY:Panthers vs Cowboys / Giants vs Saints
DESCRIPTION:These will be the two games shown at this time\, one on each TV.
URL:https://foolsendclub.com/event/panthers-vs-cowboys-giants-vs-saints/
END:VEVENT
BEGIN:VEVENT
DTSTART;TZID=America/Denver:20211002T133000
DTEND;TZID=America/Denver:20211002T163000
DTSTAMP:20260420T065929
CREATED:20210902T092903Z
LAST-MODIFIED:20210902T092903Z
UID:3034-1633181400-1633192200@foolsendclub.com
SUMMARY:Griz @ Eastern Washington
DESCRIPTION:ESPNU
URL:https://foolsendclub.com/event/griz-eastern-washington/
END:VEVENT
BEGIN:VEVENT
DTSTART;TZID=America/Denver:20211002T110000
DTEND;TZID=America/Denver:20211002T140000
DTSTAMP:20260420T065929
CREATED:20210817T022852Z
LAST-MODIFIED:20210817T022852Z
UID:3000-1633172400-1633183200@foolsendclub.com
SUMMARY:Annual Member Meeting
DESCRIPTION:Join us for the annual Member Meeting on Saturday October 2\, kicking off around 6:00 PM.  Look for more details soon via email. The club will host cigars\, whiskey\, and light hors d’oeuvres.
URL:https://foolsendclub.com/event/annual-member-meeting/
END:VEVENT
BEGIN:VEVENT
DTSTART;TZID=America/Denver:20211001T133000
DTEND;TZID=America/Denver:20211001T143000
DTSTAMP:20260420T065929
CREATED:20210913T224856Z
LAST-MODIFIED:20210914T041909Z
UID:3069-1633095000-1633098600@foolsendclub.com
SUMMARY:Single Release Party for Catnyp Pt. 2
DESCRIPTION:Join member Kevin Keohane as he releases a new single from his album\, Catnyp. This two-event series will feature a different song released at each event. Will also be live-streamed!
URL:https://foolsendclub.com/event/albu-single-release-party-for-catnyp/
END:VEVENT
BEGIN:VEVENT
DTSTART;TZID=America/Denver:20210930T090000
DTEND;TZID=America/Denver:20210930T140000
DTSTAMP:20260420T065929
CREATED:20210107T074046Z
LAST-MODIFIED:20210107T074046Z
UID:2699-1632992400-1633010400@foolsendclub.com
SUMMARY:Thursday Night Dinner
DESCRIPTION:Join us every Thursday for a rotating hosted dinner provided by a club member. Interested in hosting a dinner\, reach out to Ken Wickman.
URL:https://foolsendclub.com/event/test-event-2021-09-30/
END:VEVENT
BEGIN:VEVENT
DTSTART;TZID=America/Denver:20210926T113000
DTEND;TZID=America/Denver:20210926T143000
DTSTAMP:20260420T065929
CREATED:20210923T235427Z
LAST-MODIFIED:20210923T235436Z
UID:3084-1632655800-1632666600@foolsendclub.com
SUMMARY:Packers vs 49ers
DESCRIPTION:
URL:https://foolsendclub.com/event/packers-vs-49ers/
END:VEVENT
BEGIN:VEVENT
DTSTART;TZID=America/Denver:20210926T072500
DTEND;TZID=America/Denver:20210926T102500
DTSTAMP:20260420T065929
CREATED:20210923T235402Z
LAST-MODIFIED:20210923T235402Z
UID:3082-1632641100-1632651900@foolsendclub.com
SUMMARY:Jets vs Broncos (2:05) / Seahawks vs Vikings
DESCRIPTION:These will be the two games shown at this time\, one on each TV.
URL:https://foolsendclub.com/event/jets-vs-broncos-205-seahawks-vs-vikings/
END:VEVENT
BEGIN:VEVENT
DTSTART;TZID=America/Denver:20210926T040000
DTEND;TZID=America/Denver:20210926T070000
DTSTAMP:20260420T065929
CREATED:20210923T235302Z
LAST-MODIFIED:20210923T235302Z
UID:3080-1632628800-1632639600@foolsendclub.com
SUMMARY:Saints vs Patriots / Chargers vs Chiefs
DESCRIPTION:These will be the two games shown at this time\, one on each TV.
URL:https://foolsendclub.com/event/saints-vs-patriots-chargers-vs-chiefs/
END:VEVENT
BEGIN:VEVENT
DTSTART;TZID=America/Denver:20210925T060000
DTEND;TZID=America/Denver:20210925T090000
DTSTAMP:20260420T065929
CREATED:20210902T092627Z
LAST-MODIFIED:20210902T092627Z
UID:3030-1632549600-1632560400@foolsendclub.com
SUMMARY:Cal Poly @ Griz
DESCRIPTION:ABC/FOX MT*^
URL:https://foolsendclub.com/event/cal-poly-griz/
END:VEVENT
BEGIN:VEVENT
DTSTART;VALUE=DATE:20210924
DTEND;VALUE=DATE:20210926
DTSTAMP:20260420T065929
CREATED:20210902T091151Z
LAST-MODIFIED:20210902T091151Z
UID:3020-1632502800-1632589199@foolsendclub.com
SUMMARY:UFC 266
DESCRIPTION:UFC 266: Volkanovski vs. Ortega is an upcoming mixed martial arts event produced by the Ultimate Fighting Championship that will take place on September 25\, 2021 at T-Mobile Arena in Paradise\, Nevada\, part of the Las Vegas Metropolitan Area\, United States.
URL:https://foolsendclub.com/event/ufc-266/
END:VEVENT
BEGIN:VEVENT
DTSTART;TZID=America/Denver:20210923T113000
DTEND;TZID=America/Denver:20210923T140000
DTSTAMP:20260420T065929
CREATED:20210824T005848Z
LAST-MODIFIED:20210824T005848Z
UID:3006-1632396600-1632405600@foolsendclub.com
SUMMARY:Cigar Tasting with Esteban Carreras
DESCRIPTION:
URL:https://foolsendclub.com/event/cigar-tasting-with-esteban-carreras/
END:VEVENT
BEGIN:VEVENT
DTSTART;TZID=America/Denver:20210923T090000
DTEND;TZID=America/Denver:20210923T140000
DTSTAMP:20260420T065929
CREATED:20210107T074046Z
LAST-MODIFIED:20210107T074046Z
UID:2698-1632387600-1632405600@foolsendclub.com
SUMMARY:Thursday Night Dinner
DESCRIPTION:Join us every Thursday for a rotating hosted dinner provided by a club member. Interested in hosting a dinner\, reach out to Ken Wickman.
URL:https://foolsendclub.com/event/test-event-2021-09-23/
END:VEVENT
BEGIN:VEVENT
DTSTART;TZID=America/Denver:20210919T111500
DTEND;TZID=America/Denver:20210919T151500
DTSTAMP:20260420T065929
CREATED:20210911T003916Z
LAST-MODIFIED:20210911T003916Z
UID:3065-1632050100-1632064500@foolsendclub.com
SUMMARY:Lions vs Packers
DESCRIPTION:This will be the one game shown on both TVs.
URL:https://foolsendclub.com/event/lions-vs-packers/
END:VEVENT
BEGIN:VEVENT
DTSTART;TZID=America/Denver:20210919T072500
DTEND;TZID=America/Denver:20210919T112500
DTSTAMP:20260420T065929
CREATED:20210911T003829Z
LAST-MODIFIED:20210911T003839Z
UID:3063-1632036300-1632050700@foolsendclub.com
SUMMARY:Titans vs Seahawks / Cowboys vs Chargers
DESCRIPTION:These will be the two games shown at this time\, one on each TV.
URL:https://foolsendclub.com/event/titans-vs-seahawks-cowboys-vs-chargers/
END:VEVENT
BEGIN:VEVENT
DTSTART;TZID=America/Denver:20210919T040000
DTEND;TZID=America/Denver:20210919T080000
DTSTAMP:20260420T065929
CREATED:20210911T003236Z
LAST-MODIFIED:20210911T003236Z
UID:3061-1632024000-1632038400@foolsendclub.com
SUMMARY:Patriots vs Jets / Broncos vs Jaguars
DESCRIPTION:These will be the two games shown at this time\, one on each TV.
URL:https://foolsendclub.com/event/patriots-vs-jets-broncos-vs-jaguars/
END:VEVENT
BEGIN:VEVENT
DTSTART;TZID=America/Denver:20210916T090000
DTEND;TZID=America/Denver:20210916T140000
DTSTAMP:20260420T065929
CREATED:20210107T074046Z
LAST-MODIFIED:20210107T074046Z
UID:2697-1631782800-1631800800@foolsendclub.com
SUMMARY:Thursday Night Dinner
DESCRIPTION:Join us every Thursday for a rotating hosted dinner provided by a club member. Interested in hosting a dinner\, reach out to Ken Wickman.
URL:https://foolsendclub.com/event/test-event-2021-09-16/
END:VEVENT
BEGIN:VEVENT
DTSTART;TZID=America/Denver:20210912T113000
DTEND;TZID=America/Denver:20210912T153000
DTSTAMP:20260420T065929
CREATED:20210911T002820Z
LAST-MODIFIED:20210911T002820Z
UID:3059-1631446200-1631460600@foolsendclub.com
SUMMARY:Bears vs Rams
DESCRIPTION:This will be the one game shown on both TVs.
URL:https://foolsendclub.com/event/bears-vs-rams/
END:VEVENT
BEGIN:VEVENT
DTSTART;TZID=America/Denver:20210912T072500
DTEND;TZID=America/Denver:20210912T112500
DTSTAMP:20260420T065929
CREATED:20210911T002023Z
LAST-MODIFIED:20210911T002023Z
UID:3057-1631431500-1631445900@foolsendclub.com
SUMMARY:Packers vs Saints / Dolphins vs Patriots
DESCRIPTION:These will be the two games shown at this time\, one on each TV.
URL:https://foolsendclub.com/event/packers-vs-saints-dolphins-vs-patriots/
END:VEVENT
END:VCALENDAR