BEGIN:VCALENDAR
VERSION:2.0
PRODID:-//Fools' End Club | Private Cigar Club in Missoula, Montana - ECPv6.15.20//NONSGML v1.0//EN
CALSCALE:GREGORIAN
METHOD:PUBLISH
X-ORIGINAL-URL:https://foolsendclub.com
X-WR-CALDESC:Events for Fools' End Club | Private Cigar Club in Missoula, Montana
REFRESH-INTERVAL;VALUE=DURATION:PT1H
X-Robots-Tag:noindex
X-PUBLISHED-TTL:PT1H
BEGIN:VTIMEZONE
TZID:America/Denver
BEGIN:DAYLIGHT
TZOFFSETFROM:-0700
TZOFFSETTO:-0600
TZNAME:MDT
DTSTART:20210314T090000
END:DAYLIGHT
BEGIN:STANDARD
TZOFFSETFROM:-0600
TZOFFSETTO:-0700
TZNAME:MST
DTSTART:20211107T080000
END:STANDARD
BEGIN:DAYLIGHT
TZOFFSETFROM:-0700
TZOFFSETTO:-0600
TZNAME:MDT
DTSTART:20220313T090000
END:DAYLIGHT
BEGIN:STANDARD
TZOFFSETFROM:-0600
TZOFFSETTO:-0700
TZNAME:MST
DTSTART:20221106T080000
END:STANDARD
BEGIN:DAYLIGHT
TZOFFSETFROM:-0700
TZOFFSETTO:-0600
TZNAME:MDT
DTSTART:20230312T090000
END:DAYLIGHT
BEGIN:STANDARD
TZOFFSETFROM:-0600
TZOFFSETTO:-0700
TZNAME:MST
DTSTART:20231105T080000
END:STANDARD
BEGIN:DAYLIGHT
TZOFFSETFROM:-0700
TZOFFSETTO:-0600
TZNAME:MDT
DTSTART:20240310T090000
END:DAYLIGHT
BEGIN:STANDARD
TZOFFSETFROM:-0600
TZOFFSETTO:-0700
TZNAME:MST
DTSTART:20241103T080000
END:STANDARD
BEGIN:DAYLIGHT
TZOFFSETFROM:-0700
TZOFFSETTO:-0600
TZNAME:MDT
DTSTART:20250309T090000
END:DAYLIGHT
BEGIN:STANDARD
TZOFFSETFROM:-0600
TZOFFSETTO:-0700
TZNAME:MST
DTSTART:20251102T080000
END:STANDARD
END:VTIMEZONE
BEGIN:VEVENT
DTSTART;VALUE=DATE:20240712
DTEND;VALUE=DATE:20240714
DTSTAMP:20260419T121847
CREATED:20240219T020656Z
LAST-MODIFIED:20240219T020656Z
UID:3650-1720803600-1720889999@foolsendclub.com
SUMMARY:2024 Fire in the Hole Golf Event
DESCRIPTION:Our signature golf event returns on July 13\, 2024. Tickets and additional information will be posted soon. Keep checking this page.
URL:https://foolsendclub.com/event/2024-fire-in-the-hole-golf-event/
END:VEVENT
BEGIN:VEVENT
DTSTART;TZID=America/Denver:20240210T160000
DTEND;TZID=America/Denver:20240210T230000
DTSTAMP:20260419T121847
CREATED:20240124T013125Z
LAST-MODIFIED:20240124T013125Z
UID:3614-1707580800-1707606000@foolsendclub.com
SUMMARY:Neptune Air Crew Party
DESCRIPTION:Back room reserved for private party
URL:https://foolsendclub.com/event/neptune-air-crew-party/
LOCATION:Fools’ End Club\, 631 Woody St.\, Missoula\, MT\, 59802\, United States
END:VEVENT
BEGIN:VEVENT
DTSTART;TZID=America/Denver:20240125T110000
DTEND;TZID=America/Denver:20240125T150000
DTSTAMP:20260419T121847
CREATED:20240124T013338Z
LAST-MODIFIED:20240124T013338Z
UID:3616-1706180400-1706194800@foolsendclub.com
SUMMARY:Tatanka Calf Introduction
DESCRIPTION:Tatanka Cigars hosts new Calf cigar introduction
URL:https://foolsendclub.com/event/tatanka-calf-introduction/
END:VEVENT
BEGIN:VEVENT
DTSTART;TZID=America/Denver:20230514T010000
DTEND;TZID=America/Denver:20230514T050000
DTSTAMP:20260419T121847
CREATED:20230126T035855Z
LAST-MODIFIED:20230126T035855Z
UID:3548-1684026000-1684040400@foolsendclub.com
SUMMARY:Private Party in Back Room
DESCRIPTION:
URL:https://foolsendclub.com/event/private-party-in-back-room-2/
END:VEVENT
BEGIN:VEVENT
DTSTART;TZID=America/Denver:20230511T113000
DTEND;TZID=America/Denver:20230511T143000
DTSTAMP:20260419T121847
CREATED:20230217T004820Z
LAST-MODIFIED:20230217T004820Z
UID:3551-1683804600-1683815400@foolsendclub.com
SUMMARY:Montgomery Distillery Tasting
DESCRIPTION:Ryan Montgomery will host an evening of tasting his Montana vertical spirits as well as the history behind the business. \n 
URL:https://foolsendclub.com/event/montgomery-distillery-tasting/
LOCATION:Fools’ End Club\, 631 Woody St.\, Missoula\, MT\, 59802\, United States
END:VEVENT
BEGIN:VEVENT
DTSTART;TZID=America/Denver:20230506T060000
DTEND;TZID=America/Denver:20230506T110000
DTSTAMP:20260419T121847
CREATED:20221026T234330Z
LAST-MODIFIED:20221026T234330Z
UID:3436-1683352800-1683370800@foolsendclub.com
SUMMARY:Kentucky Derby Day!
DESCRIPTION:Traditional Derby food\, mint julips with decorated fascinators and seersucker suit or just plain tastefully garish men’s attire.
URL:https://foolsendclub.com/event/kentucky-derby-day/
END:VEVENT
BEGIN:VEVENT
DTSTART;TZID=America/Denver:20230316T110000
DTEND;TZID=America/Denver:20230316T140000
DTSTAMP:20260419T121847
CREATED:20230301T012409Z
LAST-MODIFIED:20230301T012409Z
UID:3553-1678964400-1678975200@foolsendclub.com
SUMMARY:St. Patrick's Day Dinner
DESCRIPTION:Corned Beef\, & Cabbage with soda bread. \nA day in advance\, but certainly in the spirit! \nNo defined cost\, but donations will be accepted if so inclined.
URL:https://foolsendclub.com/event/st-patricks-day-dinner/
LOCATION:Fools’ End Club\, 631 Woody St.\, Missoula\, MT\, 59802\, United States
END:VEVENT
BEGIN:VEVENT
DTSTART;TZID=America/Denver:20230309T110000
DTEND;TZID=America/Denver:20230309T130000
DTSTAMP:20260419T121847
CREATED:20221025T034106Z
LAST-MODIFIED:20221025T034106Z
UID:3432-1678359600-1678366800@foolsendclub.com
SUMMARY:March Madness Cigar Draw
DESCRIPTION:Enter the draw with one or more squares. Random draw defines your teams.  This goes throughout the tournament and  the final teams playing for the championship[p pay out in premium cigars
URL:https://foolsendclub.com/event/march-madness-cigar-draw/
END:VEVENT
BEGIN:VEVENT
DTSTART;TZID=America/Denver:20230224T030000
DTEND;TZID=America/Denver:20230224T070000
DTSTAMP:20260419T121847
CREATED:20230126T035642Z
LAST-MODIFIED:20230126T035642Z
UID:3546-1677207600-1677222000@foolsendclub.com
SUMMARY:Private Party in back room
DESCRIPTION:
URL:https://foolsendclub.com/event/private-party-in-back-room/
END:VEVENT
BEGIN:VEVENT
DTSTART;TZID=America/Denver:20230119T110000
DTEND;TZID=America/Denver:20230119T140000
DTSTAMP:20260419T121847
CREATED:20221025T034301Z
LAST-MODIFIED:20221025T034407Z
UID:3434-1674126000-1674136800@foolsendclub.com
SUMMARY:Ardbeg tasting Night
DESCRIPTION:Marlee Kreitzman of Diageo will lead us through a tasting of several Ardbeg malts.
URL:https://foolsendclub.com/event/ardbeg-tasting-night/
END:VEVENT
BEGIN:VEVENT
DTSTART;TZID=America/Denver:20221219T111500
DTEND;TZID=America/Denver:20221219T141500
DTSTAMP:20260419T121847
CREATED:20221206T000323Z
LAST-MODIFIED:20221206T000323Z
UID:3542-1671448500-1671459300@foolsendclub.com
SUMMARY:Rams @ Packers
DESCRIPTION:
URL:https://foolsendclub.com/event/rams-packers/
END:VEVENT
BEGIN:VEVENT
DTSTART;TZID=America/Denver:20221218T112000
DTEND;TZID=America/Denver:20221218T142000
DTSTAMP:20260419T121847
CREATED:20221206T000256Z
LAST-MODIFIED:20221206T000256Z
UID:3540-1671362400-1671373200@foolsendclub.com
SUMMARY:Patriots @ Raiders
DESCRIPTION:
URL:https://foolsendclub.com/event/patriots-raiders/
END:VEVENT
BEGIN:VEVENT
DTSTART;TZID=America/Denver:20221218T040000
DTEND;TZID=America/Denver:20221218T070000
DTSTAMP:20260419T121847
CREATED:20221206T000054Z
LAST-MODIFIED:20221206T000054Z
UID:3536-1671336000-1671346800@foolsendclub.com
SUMMARY:Lions @ Jets / Steelers @ Panthers
DESCRIPTION:
URL:https://foolsendclub.com/event/lions-jets-steelers-panthers/
END:VEVENT
BEGIN:VEVENT
DTSTART;TZID=America/Denver:20221217T190500
DTEND;TZID=America/Denver:20221218T102500
DTSTAMP:20260419T121847
CREATED:20221206T000155Z
LAST-MODIFIED:20221206T000155Z
UID:3538-1671303900-1671359100@foolsendclub.com
SUMMARY:Cardinals @ Broncos / Bengals @ Buccaneers
DESCRIPTION:
URL:https://foolsendclub.com/event/cardinals-broncos-bengals-buccaneers/
END:VEVENT
BEGIN:VEVENT
DTSTART;TZID=America/Denver:20221217T110000
DTEND;TZID=America/Denver:20221217T160000
DTSTAMP:20260419T121847
CREATED:20221025T033751Z
LAST-MODIFIED:20221025T033751Z
UID:3430-1671274800-1671292800@foolsendclub.com
SUMMARY:Formal Christmas Party
DESCRIPTION:Watch for details. This is a formal attire evening at the club.  This will lbe the second annual formal party attendance made for a great and relaxed event lat year.
URL:https://foolsendclub.com/event/formal-christmas-party/
END:VEVENT
BEGIN:VEVENT
DTSTART;TZID=America/Denver:20221215T111500
DTEND;TZID=America/Denver:20221215T141500
DTSTAMP:20260419T121847
CREATED:20221205T235810Z
LAST-MODIFIED:20221205T235810Z
UID:3534-1671102900-1671113700@foolsendclub.com
SUMMARY:49ers @ Seahawks
DESCRIPTION:
URL:https://foolsendclub.com/event/49ers-seahawks/
END:VEVENT
BEGIN:VEVENT
DTSTART;TZID=America/Denver:20221212T111500
DTEND;TZID=America/Denver:20221212T141500
DTSTAMP:20260419T121847
CREATED:20221205T235714Z
LAST-MODIFIED:20221205T235714Z
UID:3532-1670843700-1670854500@foolsendclub.com
SUMMARY:Patriots @ Cardinals
DESCRIPTION:
URL:https://foolsendclub.com/event/patriots-cardinals/
END:VEVENT
BEGIN:VEVENT
DTSTART;TZID=America/Denver:20221211T112000
DTEND;TZID=America/Denver:20221211T142000
DTSTAMP:20260419T121847
CREATED:20221205T235639Z
LAST-MODIFIED:20221205T235639Z
UID:3530-1670757600-1670768400@foolsendclub.com
SUMMARY:Dolphins @ Chargers
DESCRIPTION:
URL:https://foolsendclub.com/event/dolphins-chargers/
END:VEVENT
BEGIN:VEVENT
DTSTART;TZID=America/Denver:20221211T072500
DTEND;TZID=America/Denver:20221211T102500
DTSTAMP:20260419T121847
CREATED:20221205T235536Z
LAST-MODIFIED:20221205T235536Z
UID:3528-1670743500-1670754300@foolsendclub.com
SUMMARY:Panthers @ Seahawks / Buccaneers @ 49ers
DESCRIPTION:
URL:https://foolsendclub.com/event/panthers-seahawks-buccaneers-49ers/
END:VEVENT
BEGIN:VEVENT
DTSTART;TZID=America/Denver:20221211T040000
DTEND;TZID=America/Denver:20221211T070000
DTSTAMP:20260419T121847
CREATED:20221205T235442Z
LAST-MODIFIED:20221205T235442Z
UID:3526-1670731200-1670742000@foolsendclub.com
SUMMARY:Ravens @ Steelers / Vikings @ Lions
DESCRIPTION:
URL:https://foolsendclub.com/event/ravens-steelers-vikings-lions/
END:VEVENT
BEGIN:VEVENT
DTSTART;TZID=America/Denver:20221208T111500
DTEND;TZID=America/Denver:20221208T141500
DTSTAMP:20260419T121847
CREATED:20221205T235218Z
LAST-MODIFIED:20221205T235218Z
UID:3524-1670498100-1670508900@foolsendclub.com
SUMMARY:Raiders @ Rams
DESCRIPTION:
URL:https://foolsendclub.com/event/raiders-rams/
END:VEVENT
BEGIN:VEVENT
DTSTART;TZID=America/Denver:20221208T110000
DTEND;TZID=America/Denver:20221208T150000
DTSTAMP:20260419T121847
CREATED:20221013T041733Z
LAST-MODIFIED:20221013T041733Z
UID:3426-1670497200-1670511600@foolsendclub.com
SUMMARY:Cattle Baron Steak & Cigar Event
DESCRIPTION:
URL:https://foolsendclub.com/event/cattle-baron-steak-cigar-event/
END:VEVENT
BEGIN:VEVENT
DTSTART;TZID=America/Denver:20221205T112000
DTEND;TZID=America/Denver:20221205T142000
DTSTAMP:20260419T121847
CREATED:20221107T235236Z
LAST-MODIFIED:20221107T235236Z
UID:3517-1670239200-1670250000@foolsendclub.com
SUMMARY:Saints @ Buccaneers
DESCRIPTION:
URL:https://foolsendclub.com/event/saints-buccaneers/
END:VEVENT
BEGIN:VEVENT
DTSTART;TZID=America/Denver:20221204T112000
DTEND;TZID=America/Denver:20221204T142000
DTSTAMP:20260419T121847
CREATED:20221107T235157Z
LAST-MODIFIED:20221107T235157Z
UID:3515-1670152800-1670163600@foolsendclub.com
SUMMARY:Colts @ Cowboys
DESCRIPTION:
URL:https://foolsendclub.com/event/colts-cowboys/
END:VEVENT
BEGIN:VEVENT
DTSTART;TZID=America/Denver:20221204T070500
DTEND;TZID=America/Denver:20221204T102500
DTSTAMP:20260419T121847
CREATED:20221107T235129Z
LAST-MODIFIED:20221107T235129Z
UID:3513-1670137500-1670149500@foolsendclub.com
SUMMARY:Seahawks @ Rams / Chiefs @ Bengals
DESCRIPTION:
URL:https://foolsendclub.com/event/seahawks-rams-chiefs-bengals/
END:VEVENT
BEGIN:VEVENT
DTSTART;TZID=America/Denver:20221204T040000
DTEND;TZID=America/Denver:20221204T070000
DTSTAMP:20260419T121847
CREATED:20221107T235049Z
LAST-MODIFIED:20221107T235049Z
UID:3511-1670126400-1670137200@foolsendclub.com
SUMMARY:Broncos @ Ravens / Packers @ Bears
DESCRIPTION:
URL:https://foolsendclub.com/event/broncos-ravens-packers-bears/
END:VEVENT
BEGIN:VEVENT
DTSTART;TZID=America/Denver:20221201T111500
DTEND;TZID=America/Denver:20221201T141500
DTSTAMP:20260419T121847
CREATED:20221107T235006Z
LAST-MODIFIED:20221107T235006Z
UID:3509-1669893300-1669904100@foolsendclub.com
SUMMARY:Bills @ Patriots
DESCRIPTION:
URL:https://foolsendclub.com/event/bills-patriots/
END:VEVENT
BEGIN:VEVENT
DTSTART;TZID=America/Denver:20221201T110000
DTEND;TZID=America/Denver:20221201T150000
DTSTAMP:20260419T121847
CREATED:20221116T011702Z
LAST-MODIFIED:20221116T011702Z
UID:3521-1669892400-1669906800@foolsendclub.com
SUMMARY:Rocky Mountain Tatanka Cigar Introduction
DESCRIPTION:Introduced by owner Ken Weinheimer. Exceptional quality. Nigaragua filler\, Habano binder\, and San Andres wraper.
URL:https://foolsendclub.com/event/rocky-mountain-tatanka-cigar-introduction/
LOCATION:Fools’ End Club\, 631 Woody St.\, Missoula\, MT\, 59802\, United States
END:VEVENT
BEGIN:VEVENT
DTSTART;TZID=America/Denver:20221128T111500
DTEND;TZID=America/Denver:20221128T141500
DTSTAMP:20260419T121847
CREATED:20221107T234914Z
LAST-MODIFIED:20221107T234914Z
UID:3506-1669634100-1669644900@foolsendclub.com
SUMMARY:Steelers @ Colts
DESCRIPTION:
URL:https://foolsendclub.com/event/steelers-colts/
END:VEVENT
BEGIN:VEVENT
DTSTART;TZID=America/Denver:20221127T112000
DTEND;TZID=America/Denver:20221127T142000
DTSTAMP:20260419T121847
CREATED:20221107T234849Z
LAST-MODIFIED:20221107T234849Z
UID:3504-1669548000-1669558800@foolsendclub.com
SUMMARY:Packers @ Eagles
DESCRIPTION:
URL:https://foolsendclub.com/event/packers-eagles/
END:VEVENT
END:VCALENDAR